BEGIN:VCALENDAR
VERSION:2.0
PRODID:-//Ateneo Mercantil de Valencia - ECPv6.0.4//NONSGML v1.0//EN
CALSCALE:GREGORIAN
METHOD:PUBLISH
X-WR-CALNAME:Ateneo Mercantil de Valencia
X-ORIGINAL-URL:https://historico.ateneovalencia.es
X-WR-CALDESC:Eventos para Ateneo Mercantil de Valencia
REFRESH-INTERVAL;VALUE=DURATION:PT1H
X-Robots-Tag:noindex
X-PUBLISHED-TTL:PT1H
BEGIN:VTIMEZONE
TZID:Europe/Madrid
BEGIN:DAYLIGHT
TZOFFSETFROM:+0100
TZOFFSETTO:+0200
TZNAME:CEST
DTSTART:20210328T010000
END:DAYLIGHT
BEGIN:STANDARD
TZOFFSETFROM:+0200
TZOFFSETTO:+0100
TZNAME:CET
DTSTART:20211031T010000
END:STANDARD
END:VTIMEZONE
BEGIN:VEVENT
DTSTART;TZID=Europe/Madrid:20210518T190000
DTEND;TZID=Europe/Madrid:20210518T200000
DTSTAMP:20260421T232624
CREATED:20210514T123830Z
LAST-MODIFIED:20210514T123830Z
UID:63944-1621364400-1621368000@historico.ateneovalencia.es
SUMMARY:Intercambio de libros gratuito para el socio del Ateneo: trae dos y llévate otros dos
DESCRIPTION:Antes de las vacaciones de verano\, el próximo martes 18 de mayo de 19 a 20 horas en el Salón Noble\, en la zona de los ventanales que dan a la Plaza del Ayuntamiento\, regresa una de las actividades que mejor aceptación tuvo entre el socio el pasado año\, el Intercambio de libros. Continuamos con una actividad destinada para los amantes de la lectura. Como viene siendo habitual\, el tercer martes de cada mes se realiza el intercambio de libros que permite disfrutar de la lectura y ahorrar espacio en casa\, además\, de conseguir títulos nuevos sin gastar dinero. Recuerda que cada socio podrá dejar dos libros y llevarse dos\, sin obligación de custodia o devolución por ninguna de las partes (tanto del Ateneo como de los socios). \nEl próximo día de intercambio de libros será el próximo martes 15 de Junio en el mismo lugar y con el mismo horario. \nCartel:
URL:https://historico.ateneovalencia.es/evento/intercambio-de-libros-gratuito-para-el-socio-del-ateneo-trae-dos-y-llevate-otros-dos/
LOCATION:Salón Noble - Ateneo Mercantil de Valencia\, Plaza del Ayuntamiento 18\, Valencia\, Valencia\, 46002\, España
CATEGORIES:Club de Lectura
ATTACH;FMTTYPE=image/jpeg:https://historico.ateneovalencia.es/wp-content/uploads/2021/05/20210518-Intercambio-de-Libros-Mayo.jpg
END:VEVENT
END:VCALENDAR