BEGIN:VCALENDAR
VERSION:2.0
PRODID:-//Ateneo Mercantil de Valencia - ECPv6.0.4//NONSGML v1.0//EN
CALSCALE:GREGORIAN
METHOD:PUBLISH
X-ORIGINAL-URL:https://historico.ateneovalencia.es
X-WR-CALDESC:Eventos para Ateneo Mercantil de Valencia
REFRESH-INTERVAL;VALUE=DURATION:PT1H
X-Robots-Tag:noindex
X-PUBLISHED-TTL:PT1H
BEGIN:VTIMEZONE
TZID:Europe/Madrid
BEGIN:DAYLIGHT
TZOFFSETFROM:+0100
TZOFFSETTO:+0200
TZNAME:CEST
DTSTART:20200329T010000
END:DAYLIGHT
BEGIN:STANDARD
TZOFFSETFROM:+0200
TZOFFSETTO:+0100
TZNAME:CET
DTSTART:20201025T010000
END:STANDARD
END:VTIMEZONE
BEGIN:VEVENT
DTSTART;TZID=Europe/Madrid:20200218T180000
DTEND;TZID=Europe/Madrid:20200218T200000
DTSTAMP:20260423T191304
CREATED:20191121T124845Z
LAST-MODIFIED:20191121T131645Z
UID:54226-1582048800-1582056000@historico.ateneovalencia.es
SUMMARY:Intercambio de Libros en el Salón Noble: deja dos y llévate otros dos
DESCRIPTION:Este martes 18 de febrero\, de nuevo al Salón Noble (en la zona de cafetería)\, a las 18 horas comenzará el intercambio de libros totalmente gratuito para el socio ateneísta y durante dos horas podrás encontrar ese libro que tanto buscabas. Recuerda que todos los meses hay Intercambio Gratuito de Libros\, para satisfacer el entusiasmo de los muchos amantes de la lectura que tenemos en nuestra casa. El tercer martes de cada mes de 18.00 a 20.00 horas en el Salón Noble tenemos una cita. \nRealizaremos el intercambio de libros que te permitirá disfrutar de la lectura y ahorrar espacio en casa\, además\, de conseguir títulos nuevos sin gastar dinero. Recuerda que cada socio podrá dejar dos libros y llevarse dos\, sin obligación de custodia o devolución por ninguna de las partes (Ateneo y socios). \n\nLos próximos días de intercambio de libros serán: 24 de Marzo\, 21 de Abril\, 19 de Mayo y 16 de Junio de 2020.\nCartel:\n \n 
URL:https://historico.ateneovalencia.es/evento/intercambio-de-libros-en-el-salon-noble-deja-dos-y-llevate-otros-dos-4/
LOCATION:Salón Noble - Ateneo Mercantil de Valencia\, Plaza del Ayuntamiento 18\, Valencia\, Valencia\, 46002\, España
CATEGORIES:Club de Lectura
ATTACH;FMTTYPE=image/jpeg:https://historico.ateneovalencia.es/wp-content/uploads/2019/11/20180417-Intercambio-de-libros.jpg
END:VEVENT
END:VCALENDAR