BEGIN:VCALENDAR
VERSION:2.0
PRODID:-//Ateneo Mercantil de Valencia - ECPv6.0.4//NONSGML v1.0//EN
CALSCALE:GREGORIAN
METHOD:PUBLISH
X-ORIGINAL-URL:https://historico.ateneovalencia.es
X-WR-CALDESC:Eventos para Ateneo Mercantil de Valencia
REFRESH-INTERVAL;VALUE=DURATION:PT1H
X-Robots-Tag:noindex
X-PUBLISHED-TTL:PT1H
BEGIN:VTIMEZONE
TZID:Europe/Madrid
BEGIN:DAYLIGHT
TZOFFSETFROM:+0100
TZOFFSETTO:+0200
TZNAME:CEST
DTSTART:20180325T010000
END:DAYLIGHT
BEGIN:STANDARD
TZOFFSETFROM:+0200
TZOFFSETTO:+0100
TZNAME:CET
DTSTART:20181028T010000
END:STANDARD
END:VTIMEZONE
BEGIN:VEVENT
DTSTART;TZID=Europe/Madrid:20180619T180000
DTEND;TZID=Europe/Madrid:20180619T200000
DTSTAMP:20260426T000418
CREATED:20180326T095528Z
LAST-MODIFIED:20180326T095528Z
UID:34473-1529431200-1529438400@historico.ateneovalencia.es
SUMMARY:Intercambio gratuito de libros de lectura en el Salón Noble
DESCRIPTION:Continuamos\, como todos los meses con el Intercambio Gratuito de Libros para los socios del Ateneo Mercantil y que son amantes de la lectura. El tercer martes de cada mes de 18.00 a 20.00 horas en el Salón Noble\, realizaremos el intercambio de libros que te permitirá disfrutar de la lectura y ahorrar espacio en casa\, además\, de conseguir títulos nuevos sin gastar dinero. Recuerda que cada socio podrá dejar dos libros y llevarse dos\, sin obligación de custodia o devolución por ninguna de las partes (Ateneo y socios). \nPodrás encontrar todo tipo de libros: Autoayuda\, Thriler\, Novela Policiaca\, Novela Romántica\, Cuentos Juveniles\, Ficción y Fantasía\, Best Sellers\, Novela Histórica… El último día de intercambio de libros antes del verano será este 19 Junio de 2018 y a la vuelta de las vacaciones\, en septiembre\, seguiremos con este servicio que está teniendo una gran acogida entre los socios.
URL:https://historico.ateneovalencia.es/evento/intercambio-gratuito-de-libros-de-lectura-en-el-salon-noble-5/
LOCATION:Salón Noble - Ateneo Mercantil de Valencia\, Plaza del Ayuntamiento 18\, Valencia\, Valencia\, 46002\, España
CATEGORIES:Club de Lectura
ATTACH;FMTTYPE=image/jpeg:https://historico.ateneovalencia.es/wp-content/uploads/2018/03/20180417-Intercambio-de-libros.jpg
END:VEVENT
END:VCALENDAR