BEGIN:VCALENDAR
VERSION:2.0
PRODID:-//Ateneo Mercantil de Valencia - ECPv6.0.4//NONSGML v1.0//EN
CALSCALE:GREGORIAN
METHOD:PUBLISH
X-ORIGINAL-URL:https://historico.ateneovalencia.es
X-WR-CALDESC:Eventos para Ateneo Mercantil de Valencia
REFRESH-INTERVAL;VALUE=DURATION:PT1H
X-Robots-Tag:noindex
X-PUBLISHED-TTL:PT1H
BEGIN:VTIMEZONE
TZID:Europe/Madrid
BEGIN:DAYLIGHT
TZOFFSETFROM:+0100
TZOFFSETTO:+0200
TZNAME:CEST
DTSTART:20160327T010000
END:DAYLIGHT
BEGIN:STANDARD
TZOFFSETFROM:+0200
TZOFFSETTO:+0100
TZNAME:CET
DTSTART:20161030T010000
END:STANDARD
END:VTIMEZONE
BEGIN:VEVENT
DTSTART;TZID=Europe/Madrid:20160611T160000
DTEND;TZID=Europe/Madrid:20160611T180000
DTSTAMP:20260425T182348
CREATED:20160611T120021Z
LAST-MODIFIED:20160720T082548Z
UID:10222-1465660800-1465668000@historico.ateneovalencia.es
SUMMARY:Marmitako: Comida Fin de Curso del Club de Gastronomía
DESCRIPTION:El Club de Gastronomía del Ateneo Mercantil de Valencia celebra la Comida de Fin de Curso con la elaboración de Marmitako\, que es una receta tradicional del País Vasco\, de las zonas costeras sobre todo\, aunque su consumo está muy extendido además por la zona de Cantabria. Un guiso de bonito del norte aderezado con tomate\, cebolla\, pimiento y patatas\, que se prepara en una marmita de metal\, de la que recibe su nombre. El bonito\, al ser un pescado azul\, es un alimento realmente nutritivo y beneficioso para nuestra salud.
URL:https://historico.ateneovalencia.es/evento/marmitako-comida-fin-de-curso-del-club-de-gastronomia/
LOCATION:Salón Noble - Ateneo Mercantil de Valencia\, Plaza del Ayuntamiento 18\, Valencia\, Valencia\, 46002\, España
CATEGORIES:Club de Gastronomía
ATTACH;FMTTYPE=image/jpeg:https://historico.ateneovalencia.es/wp-content/uploads/2016/05/Marmitako.jpg
END:VEVENT
END:VCALENDAR