BEGIN:VCALENDAR
VERSION:2.0
PRODID:-//Ateneo Mercantil de Valencia - ECPv6.0.4//NONSGML v1.0//EN
CALSCALE:GREGORIAN
METHOD:PUBLISH
X-ORIGINAL-URL:https://historico.ateneovalencia.es
X-WR-CALDESC:Eventos para Ateneo Mercantil de Valencia
REFRESH-INTERVAL;VALUE=DURATION:PT1H
X-Robots-Tag:noindex
X-PUBLISHED-TTL:PT1H
BEGIN:VTIMEZONE
TZID:Europe/Madrid
BEGIN:DAYLIGHT
TZOFFSETFROM:+0100
TZOFFSETTO:+0200
TZNAME:CEST
DTSTART:20160327T010000
END:DAYLIGHT
BEGIN:STANDARD
TZOFFSETFROM:+0200
TZOFFSETTO:+0100
TZNAME:CET
DTSTART:20161030T010000
END:STANDARD
END:VTIMEZONE
BEGIN:VEVENT
DTSTART;TZID=Europe/Madrid:20160609T163000
DTEND;TZID=Europe/Madrid:20160609T163000
DTSTAMP:20260425T153345
CREATED:20160609T123003Z
LAST-MODIFIED:20160720T082331Z
UID:10215-1465489800-1465489800@historico.ateneovalencia.es
SUMMARY:Comida Fin de Curso de Actividades y Visitas Culturales\, Tertulia Histórica\, Poesía…
DESCRIPTION:Un año más celebramos la comida fin de curso que realizamos todos los años para dar por concluido el año de las Actividades y Visitas Culturales\, la Tertulia Histórica\, Poesía… Como el año anterior al finalizar la comida haremos un pequeño homenaje a los ponentes de las tertulias y a los “cicerones” de las visitas culturales. \nEl menú tiene un precio de 13 € y consta de Ensalada\, Paella Valenciana\, Plato a elegir entre Merluza o Carrillada\, Postre y Bebida\, Copa de Champán y Chupito de Mistela. Las reservas se han de realizar en la Secretaría del Ateneo.
URL:https://historico.ateneovalencia.es/evento/comida-fin-de-curso-de-actividades-y-visitas-culturales-tertulia-historica-poesia/
LOCATION:Restaurante - Ateneo Mercantil de Valencia\, Plaza del Ayuntamiento 18\, Valencia\, Valencia\, 46002\, España
CATEGORIES:Club de Gastronomía
ATTACH;FMTTYPE=image/jpeg:https://historico.ateneovalencia.es/wp-content/uploads/2016/05/Comida-Fin-Curso.jpg
END:VEVENT
END:VCALENDAR