BEGIN:VCALENDAR
VERSION:2.0
PRODID:-//Ateneo Mercantil de Valencia - ECPv6.0.4//NONSGML v1.0//EN
CALSCALE:GREGORIAN
METHOD:PUBLISH
X-WR-CALNAME:Ateneo Mercantil de Valencia
X-ORIGINAL-URL:https://historico.ateneovalencia.es
X-WR-CALDESC:Eventos para Ateneo Mercantil de Valencia
REFRESH-INTERVAL;VALUE=DURATION:PT1H
X-Robots-Tag:noindex
X-PUBLISHED-TTL:PT1H
BEGIN:VTIMEZONE
TZID:Europe/Madrid
BEGIN:DAYLIGHT
TZOFFSETFROM:+0100
TZOFFSETTO:+0200
TZNAME:CEST
DTSTART:20180325T010000
END:DAYLIGHT
BEGIN:STANDARD
TZOFFSETFROM:+0200
TZOFFSETTO:+0100
TZNAME:CET
DTSTART:20181028T010000
END:STANDARD
END:VTIMEZONE
BEGIN:VEVENT
DTSTART;TZID=Europe/Madrid:20181125T140000
DTEND;TZID=Europe/Madrid:20181125T140000
DTSTAMP:20260422T192021
CREATED:20181106T092145Z
LAST-MODIFIED:20181106T092146Z
UID:39702-1543154400-1543154400@historico.ateneovalencia.es
SUMMARY:Comida Social: Arròs en Fesols i Naps
DESCRIPTION:Con la vuelta del frío el Club de Gastrónómica del Ateneo Mercantil vuelve a organizar una comida social de Arròs en Fesols i Naps. Este tipo de celebraciones\, son ideales para promocionar los platos típicos de la gastronomía valenciana. Este delicioso platos es uno de los platos títpicos que se elaboran con arroz en la Comunitat Valenciana. \nEs un arroz para el invierno y sus días de frío porque su caldo sustancioso resulta de lo más reconfortante. En algunos pueblos de la Huerta de Valencia: El Puig\, Vinalesa\, Foyos\, Masamagrell... es costumbre durante las fiestas mayores guisar las denominadas “calderas”; en ellas se elaboran monumentales arroces “en fesols i naps”\, para compartir entre vecinos y visitantes que acuden a la fiesta. \nPueden adquirir los tickets en Secretaría\, por un módico precio de 12€.
URL:https://historico.ateneovalencia.es/evento/comida-social-arros-en-fesols-i-naps-3/
LOCATION:Salón Noble - Ateneo Mercantil de Valencia\, Plaza del Ayuntamiento 18\, Valencia\, Valencia\, 46002\, España
CATEGORIES:Club de Gastronomía,Social
ATTACH;FMTTYPE=image/jpeg:https://historico.ateneovalencia.es/wp-content/uploads/2016/11/Arros-en-Fesols-i-Naps.jpg
END:VEVENT
END:VCALENDAR