BEGIN:VCALENDAR
VERSION:2.0
PRODID:-//Ateneo Mercantil de Valencia - ECPv6.0.4//NONSGML v1.0//EN
CALSCALE:GREGORIAN
METHOD:PUBLISH
X-ORIGINAL-URL:https://historico.ateneovalencia.es
X-WR-CALDESC:Eventos para Ateneo Mercantil de Valencia
REFRESH-INTERVAL;VALUE=DURATION:PT1H
X-Robots-Tag:noindex
X-PUBLISHED-TTL:PT1H
BEGIN:VTIMEZONE
TZID:Europe/Madrid
BEGIN:DAYLIGHT
TZOFFSETFROM:+0100
TZOFFSETTO:+0200
TZNAME:CEST
DTSTART:20180325T010000
END:DAYLIGHT
BEGIN:STANDARD
TZOFFSETFROM:+0200
TZOFFSETTO:+0100
TZNAME:CET
DTSTART:20181028T010000
END:STANDARD
END:VTIMEZONE
BEGIN:VEVENT
DTSTART;TZID=Europe/Madrid:20180125T213000
DTEND;TZID=Europe/Madrid:20180125T233000
DTSTAMP:20260423T075106
CREATED:20180118T160957Z
LAST-MODIFIED:20180118T161625Z
UID:29196-1516915800-1516923000@historico.ateneovalencia.es
SUMMARY:Cenas con Encanto: Zarzuela de Pescado y Marisco
DESCRIPTION:Como todos los últimos jueves de cada mes\, el Club de Gastronomía del Ateneo elaborará bajo las órdenes de la Chef\, Dña. María Luisa Mercader\, una cena para el disfrute de los socios ateneístas. La Cena con Encanto estará elaborada por dos platos\, uno primero que serán caprichos del Chef\, mientras que el segundo lo compondrá una Zarzuela de Pescado y Marisco. \nRecuerda que el acceso a la cena es restringido y pese a que está abierta al socio de la casa\, tan sólo podrán asistir 20 personas\, por lo que no te demores y reserva pronto. Para poder cenar hay que reservar tu plaza en Secretaría del Ateneo previo pago de 15 euros. La Zarzuela es un estofado de diversos pescados y mariscos que resulta ser muy típico en las cocinas de Catalunya\, de la Comunitat Valenciana\, además\, de en la cocina mallorquina es muy popular.
URL:https://historico.ateneovalencia.es/evento/cenas-con-encanto-zarzuela-de-pescado-y-marisco/
LOCATION:Salón Noble - Ateneo Mercantil de Valencia\, Plaza del Ayuntamiento 18\, Valencia\, Valencia\, 46002\, España
CATEGORIES:Club de Gastronomía
ATTACH;FMTTYPE=image/jpeg:https://historico.ateneovalencia.es/wp-content/uploads/2018/01/20180125-Zarzuela-Pescado.jpg
END:VEVENT
END:VCALENDAR