BEGIN:VCALENDAR
VERSION:2.0
PRODID:-//Ateneo Mercantil de Valencia - ECPv6.0.4//NONSGML v1.0//EN
CALSCALE:GREGORIAN
METHOD:PUBLISH
X-WR-CALNAME:Ateneo Mercantil de Valencia
X-ORIGINAL-URL:https://historico.ateneovalencia.es
X-WR-CALDESC:Eventos para Ateneo Mercantil de Valencia
REFRESH-INTERVAL;VALUE=DURATION:PT1H
X-Robots-Tag:noindex
X-PUBLISHED-TTL:PT1H
BEGIN:VTIMEZONE
TZID:Europe/Madrid
BEGIN:DAYLIGHT
TZOFFSETFROM:+0100
TZOFFSETTO:+0200
TZNAME:CEST
DTSTART:20170326T010000
END:DAYLIGHT
BEGIN:STANDARD
TZOFFSETFROM:+0200
TZOFFSETTO:+0100
TZNAME:CET
DTSTART:20171029T010000
END:STANDARD
END:VTIMEZONE
BEGIN:VEVENT
DTSTART;TZID=Europe/Madrid:20171211T180000
DTEND;TZID=Europe/Madrid:20171211T210000
DTSTAMP:20260421T222816
CREATED:20171113T164331Z
LAST-MODIFIED:20171113T164331Z
UID:27517-1513015200-1513026000@historico.ateneovalencia.es
SUMMARY:II Curso Cortadores de Jamón
DESCRIPTION:Debido al gran éxito alcanzado el año pasado y el interés mostrado por muchos socios\, se organiza el II curso de Cortadores de Jamón del 11 al 15 de diciembre. En el curso será para un mínimo de 15 personas y habrán tres alumnos por pieza de jamón de cebo ibérico. Los alumnos al finalizar el curso recibirán el producto con el que han practicado. \nEl curso se celebrará en el Salón Noble de 18 a 21 horas
URL:https://historico.ateneovalencia.es/evento/ii-curso-cortadores-de-jamon/
LOCATION:Salón Noble - Ateneo Mercantil de Valencia\, Plaza del Ayuntamiento 18\, Valencia\, Valencia\, 46002\, España
CATEGORIES:Club de Gastronomía,Social
ATTACH;FMTTYPE=image/jpeg:https://historico.ateneovalencia.es/wp-content/uploads/2016/10/Curso-Corte-de-Jamon.jpg
END:VEVENT
END:VCALENDAR