BEGIN:VCALENDAR
VERSION:2.0
PRODID:-//Ateneo Mercantil de Valencia - ECPv6.0.4//NONSGML v1.0//EN
CALSCALE:GREGORIAN
METHOD:PUBLISH
X-WR-CALNAME:Ateneo Mercantil de Valencia
X-ORIGINAL-URL:https://historico.ateneovalencia.es
X-WR-CALDESC:Eventos para Ateneo Mercantil de Valencia
REFRESH-INTERVAL;VALUE=DURATION:PT1H
X-Robots-Tag:noindex
X-PUBLISHED-TTL:PT1H
BEGIN:VTIMEZONE
TZID:Europe/Madrid
BEGIN:DAYLIGHT
TZOFFSETFROM:+0100
TZOFFSETTO:+0200
TZNAME:CEST
DTSTART:20160327T010000
END:DAYLIGHT
BEGIN:STANDARD
TZOFFSETFROM:+0200
TZOFFSETTO:+0100
TZNAME:CET
DTSTART:20161030T010000
END:STANDARD
END:VTIMEZONE
BEGIN:VEVENT
DTSTART;TZID=Europe/Madrid:20161017T190000
DTEND;TZID=Europe/Madrid:20161019T210000
DTSTAMP:20260424T221713
CREATED:20161010T122323Z
LAST-MODIFIED:20161010T122323Z
UID:15812-1476730800-1476910800@historico.ateneovalencia.es
SUMMARY:Curso de Corte de Jamón
DESCRIPTION:El Club de Gastronomía del Ateneo Mercantil de Valencia organiza un Curso de Corte de Jamón en la que aprenderás a sacarle el máximo partido al jamón\, técnicas de corte... \nCurso impartido por maestro cortador de jamón y patrocinado por Beher Guijuelo. \nEl curso se desarrollará del 17 al 19 de octubre de 17.00 h. a 19.00 h. y tendrá un máximo 18 alumnos. \nIncluye 1 kg de jamón ibérico por alumno. \nPrecio: 70 €
URL:https://historico.ateneovalencia.es/evento/curso-de-corte-de-jamon/
LOCATION:Salón Noble - Ateneo Mercantil de Valencia\, Plaza del Ayuntamiento 18\, Valencia\, Valencia\, 46002\, España
CATEGORIES:Club de Gastronomía
ATTACH;FMTTYPE=image/jpeg:https://historico.ateneovalencia.es/wp-content/uploads/2016/10/Curso-Corte-de-Jamon.jpg
END:VEVENT
BEGIN:VEVENT
DTSTART;TZID=Europe/Madrid:20161027T230000
DTEND;TZID=Europe/Madrid:20161028T010000
DTSTAMP:20260424T221713
CREATED:20160912T092831Z
LAST-MODIFIED:20161024T114953Z
UID:12888-1477609200-1477616400@historico.ateneovalencia.es
SUMMARY:Cenas con Encanto
DESCRIPTION:Como cada último jueves de mes regresan las Cenas con Encanto al Salón Noble del Ateneo Mercantil de Valencia\, en la zona de  la Chimenea. Por tan sólo 15 euros puedes pasar una gran velada. Recuerda que la cena comienza a las 21:00 horas y que tienes de tiempo para reservar hasta el miércoles 26 de octubre en Secretaría (Quinta Planta). \nEsta vez contaremos como chef a Julio del Val y la repostería correrá a cargo María Luisa Mercader. No te la puedes perder. \nAforo limitado a 20 comensales.
URL:https://historico.ateneovalencia.es/evento/cenas-con-encanto-3/
LOCATION:Salón Noble - Ateneo Mercantil de Valencia\, Plaza del Ayuntamiento 18\, Valencia\, Valencia\, 46002\, España
CATEGORIES:Cenas,Club de Gastronomía
ATTACH;FMTTYPE=image/jpeg:https://historico.ateneovalencia.es/wp-content/uploads/2016/09/Cenas-con-Encanto.jpg
END:VEVENT
END:VCALENDAR