BEGIN:VCALENDAR
VERSION:2.0
PRODID:-//Ateneo Mercantil de Valencia - ECPv6.0.4//NONSGML v1.0//EN
CALSCALE:GREGORIAN
METHOD:PUBLISH
X-WR-CALNAME:Ateneo Mercantil de Valencia
X-ORIGINAL-URL:https://historico.ateneovalencia.es
X-WR-CALDESC:Eventos para Ateneo Mercantil de Valencia
REFRESH-INTERVAL;VALUE=DURATION:PT1H
X-Robots-Tag:noindex
X-PUBLISHED-TTL:PT1H
BEGIN:VTIMEZONE
TZID:Europe/Madrid
BEGIN:DAYLIGHT
TZOFFSETFROM:+0100
TZOFFSETTO:+0200
TZNAME:CEST
DTSTART:20250330T010000
END:DAYLIGHT
BEGIN:STANDARD
TZOFFSETFROM:+0200
TZOFFSETTO:+0100
TZNAME:CET
DTSTART:20251026T010000
END:STANDARD
END:VTIMEZONE
BEGIN:VEVENT
DTSTART;TZID=Europe/Madrid:20250304T173000
DTEND;TZID=Europe/Madrid:20250305T203000
DTSTAMP:20260422T013352
CREATED:20250130T085013Z
LAST-MODIFIED:20250130T085014Z
UID:82974-1741109400-1741206600@historico.ateneovalencia.es
SUMMARY:Torneo de Bridge Open Fallas 2025
DESCRIPTION:El Club de Bridge del Ateneo Mercantil de Valencia organiza el Torneo de Bridge Open Fallas 2025\, una emocionante competición abierta a todos los jugadores\, que se celebrará en la primera semana de Fallas de Valencia. El torneo será los días: \n📅 Martes 4 de marzo – 17:30 h\n📅 Miércoles 5 de marzo – 17:00 h \n📍 Lugar: Sala de Bridge del Ateneo Mercantil de Valencia (Plaza del Ayuntamiento\, 18). \n💰 Los Premios están calculados para 16 mesas:\n🏆 Premios Clasificación General: \n\n1º Absoluto: 120€\n2º Clasificado: 110€\n3º Clasificado: 100€\n4º Clasificado: 90€\n1/2º Clasificado: 80€\n25º Clasificado: 70€\nPenúltimo Clasificado: 70€\n\n🏆 Premios Especiales: \n\n1º Ateneo Mercantil: 100€\n1º Otros Clubes: 100€\nAsociación de Bridge Comunidad Valenciana:\n\n1º de Primera: 60€\n1º de Segunda: 60€\n1º de Tercera: 60€\n\n\n\n⚠️ Los premios no son acumulables. \n💶 Inscripción y Aforo\n🎟 Precio de inscripción: 35 €\n🔹 Aforo limitado: Inscripciones por orden de llegada en la Sala de Bridge o llamando al 📞 646 10 69 43. \n🍷 Vino de Honor y Árbitro\nPara cerrar el torneo\, se ofrecerá un vino de honor servido por Gema en el Ateneo Mercantil de Valencia durante la entrega de premios.\n👨‍⚖️ Árbitro del torneo: Jesús García\, árbitro de la Federación. \n📌 ¡No te pierdas esta gran cita con el bridge en Valencia! \nCartel:
URL:https://historico.ateneovalencia.es/evento/torneo-de-bridge-open-fallas-2025/
LOCATION:Sala Bridge - Ateneo Mercantil de Valencia\, Plaza del Ayuntamiento\, 18\, Valencia\, España\, Valencia\, Valencia\, 46002\, España
CATEGORIES:Club de Bridge
ATTACH;FMTTYPE=image/jpeg:https://historico.ateneovalencia.es/wp-content/uploads/2025/01/20250304-Torneo-Fallas-Bridge-2025.jpg
END:VEVENT
END:VCALENDAR