BEGIN:VCALENDAR
VERSION:2.0
PRODID:-//Ateneo Mercantil de Valencia - ECPv6.0.4//NONSGML v1.0//EN
CALSCALE:GREGORIAN
METHOD:PUBLISH
X-WR-CALNAME:Ateneo Mercantil de Valencia
X-ORIGINAL-URL:https://historico.ateneovalencia.es
X-WR-CALDESC:Eventos para Ateneo Mercantil de Valencia
REFRESH-INTERVAL;VALUE=DURATION:PT1H
X-Robots-Tag:noindex
X-PUBLISHED-TTL:PT1H
BEGIN:VTIMEZONE
TZID:Europe/Madrid
BEGIN:DAYLIGHT
TZOFFSETFROM:+0100
TZOFFSETTO:+0200
TZNAME:CEST
DTSTART:20240331T010000
END:DAYLIGHT
BEGIN:STANDARD
TZOFFSETFROM:+0200
TZOFFSETTO:+0100
TZNAME:CET
DTSTART:20241027T010000
END:STANDARD
END:VTIMEZONE
BEGIN:VEVENT
DTSTART;TZID=Europe/Madrid:20240930T173000
DTEND;TZID=Europe/Madrid:20241001T210000
DTSTAMP:20260421T213826
CREATED:20240910T101257Z
LAST-MODIFIED:20240911T095204Z
UID:81449-1727717400-1727816400@historico.ateneovalencia.es
SUMMARY:Torneo de Bienvenida 2024 de Bridge - Exclusivo para socios del Ateneo Mercantil de Valencia
DESCRIPTION:El Club de Bridge del Ateneo Mercantil de Valencia ha programado para el próximo lunes 30 de septiembre y el martes 1 de octubre de 2024 el Torneo de Bienvenida 2024. La inscripción para el torneo se puede realizar llamando al teléfono 646.10.69.43 (Jesús García) o escribiendo un email a jgpbridge@hotmail.com. El torneo tiene un coste de 30 euros y estará arbitrado por el colegiado federado Jesús García. El Torneo es Exclusivo para Socios del Ateneo Mercantil de Valencia. \nLos PREMIOS están calculados para 10 mesas y son los siguientes: 1ª Pareja clasificada: 120 € | 2ª: 100 € | 3ª: 90 € | 4º: 80€ | 5º: 70€ | 1/2: 70€ | 13º: 60€ | 15º: 60€ | 18º: 60€ y Penúltima: 60€. Además\, hay que indicar que los premios no son acumulables. \nPor último indicarles que el segundo día del torneo\, el martes\, se realizará la comida en el Restaurante Ateneo a las 14 horas\, antes de que se inicie la segunda sesión del torneo. Se ruega cursar inscripción para saber el número de comensales en el restaurante. \n\nPrimera Sesión (Lunes 30 de septiembre): 17:30 h.\nSegunda Sesión (Martes 1 de octubre): 17 h.\n\nMás información en la Sala de Bridge y Jesús García (646.10.69.43) \nCartel:
URL:https://historico.ateneovalencia.es/evento/torneo-de-bienvenida-2024-de-bridge-exclusivo-para-socios-del-ateneo-mercantil-de-valencia/
LOCATION:Sala Bridge - Ateneo Mercantil de Valencia\, Plaza del Ayuntamiento\, 18\, Valencia\, España\, Valencia\, Valencia\, 46002\, España
CATEGORIES:Club de Bridge
ATTACH;FMTTYPE=image/jpeg:https://historico.ateneovalencia.es/wp-content/uploads/2024/09/20240930-Torneo-Bienvenida-2024-Bridge.jpg
END:VEVENT
END:VCALENDAR