BEGIN:VCALENDAR
VERSION:2.0
PRODID:-//Ateneo Mercantil de Valencia - ECPv6.0.4//NONSGML v1.0//EN
CALSCALE:GREGORIAN
METHOD:PUBLISH
X-WR-CALNAME:Ateneo Mercantil de Valencia
X-ORIGINAL-URL:https://historico.ateneovalencia.es
X-WR-CALDESC:Eventos para Ateneo Mercantil de Valencia
REFRESH-INTERVAL;VALUE=DURATION:PT1H
X-Robots-Tag:noindex
X-PUBLISHED-TTL:PT1H
BEGIN:VTIMEZONE
TZID:Europe/Madrid
BEGIN:DAYLIGHT
TZOFFSETFROM:+0100
TZOFFSETTO:+0200
TZNAME:CEST
DTSTART:20190331T010000
END:DAYLIGHT
BEGIN:STANDARD
TZOFFSETFROM:+0200
TZOFFSETTO:+0100
TZNAME:CET
DTSTART:20191027T010000
END:STANDARD
END:VTIMEZONE
BEGIN:VEVENT
DTSTART;TZID=Europe/Madrid:20190930T090000
DTEND;TZID=Europe/Madrid:20191002T190000
DTSTAMP:20260421T190653
CREATED:20190917T094447Z
LAST-MODIFIED:20190917T101202Z
UID:50946-1569834000-1570042800@historico.ateneovalencia.es
SUMMARY:Campeonato del Mundo Femenino de Billar a Tres Bandas 2019
DESCRIPTION:El Campeonato Mundial de Tres Bandas Femenino llega a Valencia con Therese Klompenhouwer\, triple campeona del mundo y actual defensora del título\, la japonesa Orie Hida que con cuatro títulos es la más laureada de la historia de este deporte. La sala de juego estará ubicada en el Salón Noble del Ateneo Mercantil de Valencia\, el torneo se disputará del lunes 30 de septiembre al miércoles 2 de octubre. El premio para la ganadora se ha duplicado y serán de 4000 euros. \n\n\nLas 24 partipantes son las siguientes: la actual campeona mundial Therese Klompenhouwer\, diez jugadoras de Europa\, seis de Asia\, cinco de América\, una de África y una 'wild card' para la española Ana Juárez. Por países destacan las tres participantes de Países Bajos\, dos de Turquía\, cuatro de Colombia\, dos de Japón\, dos de Corea y dos de Bélgica. \nConsulta toda la información del Campeonato del Mundo Femenino de Billar a Tres Bandas 2019\n\n\n\nGrupo A: T. Klompenhouwer\, J. Breur\, J. Sandoval. \n\n\n\n\n\n\nGrupo B: P. Sruong\, C. Jacques\, A. Juárez. \n\n\n\n\n\n\nGrupo C: O. Hida\, M. Kim\, K. Jetten. \n\n\n\n\n\n\nGrupo D: G. Degener\, E. Cardoso\, H-J. Yong. \n\n\n\n\n\n\nGrupo E: G. M. Karakasli\, H. Mitterbock\, E. Vargas \n\n\n\n\n\n\nGrupo F: S. Daske\, J. Pérez\, S. Gómez. \n\n\n\n\n\n\nGrupo G: A. Sakai\, D. Le Bruijn\, J. Buelens. \n\n\n\n\n\n\nGrupo H: I. Hambalkova\, M. Mortensen\, M. Castro. \nCartel:
URL:https://historico.ateneovalencia.es/evento/campeonato-del-mundo-femenino-de-billar-a-tres-bandas-2019/
LOCATION:Salón Noble - Ateneo Mercantil de Valencia\, Plaza del Ayuntamiento 18\, Valencia\, Valencia\, 46002\, España
CATEGORIES:Club de Billar
ATTACH;FMTTYPE=image/jpeg:https://historico.ateneovalencia.es/wp-content/uploads/2019/09/20190930-Campeonato-del-Mundo-de-Billar-2019.jpg
END:VEVENT
BEGIN:VEVENT
DTSTART;TZID=Europe/Madrid:20191002T090000
DTEND;TZID=Europe/Madrid:20191005T190000
DTSTAMP:20260421T190653
CREATED:20190917T100123Z
LAST-MODIFIED:20190917T100836Z
UID:50951-1570006800-1570302000@historico.ateneovalencia.es
SUMMARY:Campeonato del Mundo Junior de Billar a Tres Bandas 2019
DESCRIPTION:El Campeonato Mundial de Tres Bandas Junior llega a Valencia con el coreano Myung-Woo Cho\, como bicampeón Mundial Junior en 2016 y 2018. Enfrente tendrá a los mejores jugadores del mundo en busca de su trono: Maxime Panaia (Francia) que llega como campeón de Europa en 2019\, Percy Martínez (Nicaragua) que es el actual campeón del Campeonato Panamericano este mismo año. \nLa sala de juego estará ubicada en el Salón Noble del Ateneo Mercantil de Valencia\, el torneo se disputará del jueves 3 al sábado 5 de octubre. El premio para el ganador será de 4000 euros. Los 24 partipantes son las siguientes: el actual campeón mundial Myung-Woo Cho\, 13 jugadores de Europa\, cinco de Asia\, cuatro de América\, dos de África y una 'wild card' para el español Iván Mayor. Por países destacan los cuatro coreanos\, tres participantes de España (Mario Mercader\, Adrián García e Iván Mayor)\, dos de Egipto\, dos de Colombia\, dos de Turquía y dos de Francia. \n\n\nConsulta toda la información del Campeonato del Mundo Junior de Billar a Tres Bandas 2019\n\n\n\nGrupo A: M. Woo Cho\, K. Gerges\, N. Rosier. \nGrupo B: M. Panaia\, H. Woo Cho\, S. Soto. \nGrupo C: P. Martínez\, D. Akkoca\, H. Kim. \nGrupo D: S. Funaki\, A. García\, L. Mortensen. \nGrupo E: M. Ayman\, A. D'Agata\, J. Ko. \nGrupo F: N. Duriez\, C. Montoya\, M. Ettel. \nGrupo G: L. Carrasco\, I. Mayor\, T. Slikker. \nGrupo H: A. Canozkan\, N. Kogelbauer\, M. Mercader \nCartel:
URL:https://historico.ateneovalencia.es/evento/campeonato-del-mundo-junior-de-billar-a-tres-bandas-2019/
LOCATION:Salón Noble - Ateneo Mercantil de Valencia\, Plaza del Ayuntamiento 18\, Valencia\, Valencia\, 46002\, España
CATEGORIES:Club de Billar
ATTACH;FMTTYPE=image/jpeg:https://historico.ateneovalencia.es/wp-content/uploads/2019/09/20190930-Campeonato-del-Mundo-de-Billar-2019.jpg
END:VEVENT
END:VCALENDAR