BEGIN:VCALENDAR
VERSION:2.0
PRODID:-//Ateneo Mercantil de Valencia - ECPv6.0.4//NONSGML v1.0//EN
CALSCALE:GREGORIAN
METHOD:PUBLISH
X-WR-CALNAME:Ateneo Mercantil de Valencia
X-ORIGINAL-URL:https://historico.ateneovalencia.es
X-WR-CALDESC:Eventos para Ateneo Mercantil de Valencia
REFRESH-INTERVAL;VALUE=DURATION:PT1H
X-Robots-Tag:noindex
X-PUBLISHED-TTL:PT1H
BEGIN:VTIMEZONE
TZID:Europe/Madrid
BEGIN:DAYLIGHT
TZOFFSETFROM:+0100
TZOFFSETTO:+0200
TZNAME:CEST
DTSTART:20210328T010000
END:DAYLIGHT
BEGIN:STANDARD
TZOFFSETFROM:+0200
TZOFFSETTO:+0100
TZNAME:CET
DTSTART:20211031T010000
END:STANDARD
END:VTIMEZONE
BEGIN:VEVENT
DTSTART;TZID=Europe/Madrid:20210610T190000
DTEND;TZID=Europe/Madrid:20210610T203000
DTSTAMP:20260424T065925
CREATED:20210510T110539Z
LAST-MODIFIED:20210510T110539Z
UID:63892-1623351600-1623357000@historico.ateneovalencia.es
SUMMARY:Presentación del libro: "La Espada de San Pablo" de Antonio Pellicer
DESCRIPTION:El Ateneo Mercantil de Valencia recibe la visita del escritor Antonio Pellicer Artés el próximo jueves 10 de junio a las 19 horas en el Salón Sorolla para la presentación de su novela "La Espada de San Pablo"\, un libro que habla de "la reliquia oculta de la inmortalidad". Una apasionante novela que combina el estilo histórico con la intriga y la ficción. Repleta de símbolos\, datos y referencias al medievo\, la religión y la verdadera condición humana. \nPara Antonio Pellicer "la literatura aparece en algunos estados de ánimo\, o se crea sola y lo que intento conseguir\, es estar despierto en ese momento para captar lo que ella me dice" y esto se refleja perfectamente en esta primera novela que ha editado el Grupo Sar Alejandría.  \nSinopsis: Álvaro es un anticuario valenciano que goza de una excelente reputación profesional\, lo que le permite decidir que trabajos acepta. Oto es su mejor amigo\, un paleógrafo poco convencional\, experto en simbología cristiana\, jóvenes mujeres y sobre todo\, gran bebedor de cerveza. Juntos se embarcan en resolver un encargo muy interesante\, al igual que bien remunerado. Deben encontrar la espada con la que fue decapitado el apóstol san Pablo. En su búsqueda\, viajan por distintos lugares de España y Europa\, tras las esquivas pistas que se les van presentando. Descubrirán el poder de la reliquia\, como se aferra a ella su último dueño y la relación entre la ambición por poseerla y la inmortalidad fantasmagórica que fi nalmente conlleva su posesión. Se mezclan los oscuros entresijos que la iglesia y la orden militar\, que la ha custodiado durante siglos han ido creado a lo largo del tiempo y la codicia humana desdibujada por la ambición\, el poder y la maldad. \nCartel:\n \n 
URL:https://historico.ateneovalencia.es/evento/presentacion-del-libro-la-espada-de-san-pablo-de-antonio-pellicer/
LOCATION:Salón Sorolla - Ateneo Mercantil de Valencia\, Plaza del Ayuntamiento 18\, Valencia\, Valencia\, 46002\, España
CATEGORIES:Presentaciones Libros
ATTACH;FMTTYPE=image/jpeg:https://historico.ateneovalencia.es/wp-content/uploads/2021/05/20210610-Presentacion-Libro-Espada-San-Pablo.jpg
END:VEVENT
END:VCALENDAR