BEGIN:VCALENDAR
VERSION:2.0
PRODID:-//Ateneo Mercantil de Valencia - ECPv6.0.4//NONSGML v1.0//EN
CALSCALE:GREGORIAN
METHOD:PUBLISH
X-WR-CALNAME:Ateneo Mercantil de Valencia
X-ORIGINAL-URL:https://historico.ateneovalencia.es
X-WR-CALDESC:Eventos para Ateneo Mercantil de Valencia
REFRESH-INTERVAL;VALUE=DURATION:PT1H
X-Robots-Tag:noindex
X-PUBLISHED-TTL:PT1H
BEGIN:VTIMEZONE
TZID:Europe/Madrid
BEGIN:DAYLIGHT
TZOFFSETFROM:+0100
TZOFFSETTO:+0200
TZNAME:CEST
DTSTART:20200329T010000
END:DAYLIGHT
BEGIN:STANDARD
TZOFFSETFROM:+0200
TZOFFSETTO:+0100
TZNAME:CET
DTSTART:20201025T010000
END:STANDARD
END:VTIMEZONE
BEGIN:VEVENT
DTSTART;TZID=Europe/Madrid:20201120T180000
DTEND;TZID=Europe/Madrid:20201120T193000
DTSTAMP:20260425T133516
CREATED:20201118T153948Z
LAST-MODIFIED:20201118T155946Z
UID:60885-1605895200-1605900600@historico.ateneovalencia.es
SUMMARY:Presentación del libro de Magda Villarroya: "El mundo mágico del Estatuto de Autonomía de la Comunidad Valenciana”
DESCRIPTION:El próximo viernes 20 de noviembre a las 19 horas se presenta en el Salón Stolz un libro destinado al público infantil. La autora es la escritora valenciana\, Magda Villarroya\, y el título del libro es "El mundo mágico del Estatuto de Autonomía de la Comunidad Valenciana". En la presentación\, además\, de Magda Villarroya\, intervendrán el magistrado y senador por la Comunidad Valenciana\, el Exmo. Sr. D. Fernando de Rosa\, el abogadolaboralista\, ex diputado del Congreso y ex Delegado de Gobierno de la Comunidad Valenciana\, D. Ricardo Peralta Ortega y el editor de la obra\, Toni Alcolea\, de la Editorial Olé Libros. \nAnte todo\, "El mundo mágico del Estatuto de Autonomía de la Comunidad Valenciana" es un cuento. Una historia de amistad de cinco niños que\, por cosas de la magia\, se ven unidos en el tiempo. La Valencia del rey Jaume I y la de la moderna ciudad del Oceanogràfic se juntan en este relato donde los cinco vivirán aventuras que ninguno de ellos se puede imaginar. También es un libro para aprender; además de la historia de Valencia\, los niños sabrán lo que es un Estatuto de Autonomía y entenderán\, casi sin darse cuenta\, conceptos como Generalitat\, Consell\, consellers y muchos más. \nEl mundo mágico del Estatuto de Autonomía de la Comunidad Valenciana inaugura el nuevo sello editorial ‘Editorial Iglú’ del Grupo Editorial Olé Libros. \nMagda Villarroya\nEscritora valenciana. Nació en Valencia. Es licenciada en Derecho. Entra en el mundo de la literatura a finales del año 2003 con la publicación en calidad de coautora\, como autora del texto\, del cuento: "Descubre la Constitución"\, sobre la Constitución Española de 1978\, edición no venal que le llevó\, en el año 2008 a publicar en solitario de la mano de la editorial jurídica "Tirant Lo Blanch"\, otra diferente sobre el mismo tema dirigida al mismo público: "El Mundo Mágico de la Constitución Española". \nAsimismo es autora del cuento "El Mundo Mágico de la Constitución Europea" y del incisivo ensayo "¿Eres demócrata o lo pareces?" Posteriormente entra en el mundo de la novela\, en el año 2006\, con "Dioses en la Red"; una novela epistolar donde se conjugan de forma maestra la actualidad virtual y la mitología griega. \nEs en el año 2010 cuando publica la obra de gran éxito editorial Tengo tanto sueño que me duermo en los zapatos. De corte costumbrista sobre la sociedad actual en clave de humor que esconde entre sus líneas la polémica de la que la autora suele hacer gala en todo lo que escribe. Un hilarante trhiller al mismo tiempo que deja en suspense al lector hasta el final de la obra. \nMagda Villarroya roza el mundo de la poesía con poemarios inéditos y obtuvo el premio Jaume I en la CXXIV edición de los juegos florales de la ciudad de Valencia de Lo Rat Penat. \nAunque sin duda\, sus obras de más relevancia son las dos constituciones con enfoque infantil\, únicas en España y muy demandadas en colegios. \nCartel:
URL:https://historico.ateneovalencia.es/evento/presentacion-del-libro-de-magda-villarroya-el-mundo-magico-del-estatuto-de-autonomia-de-la-comunidad-valenciana/
LOCATION:Salón Stolz - Ateneo Mercantil de Valencia\, Plaza del Ayuntamiento\, 18\, Valencia\, España\, Valencia\, Valencia\, 46002\, España
CATEGORIES:Presentaciones Libros
ATTACH;FMTTYPE=image/jpeg:https://historico.ateneovalencia.es/wp-content/uploads/2020/11/20201120-Presentacion-Libro-Magda-Estatut-Autonomia.jpg
END:VEVENT
END:VCALENDAR