BEGIN:VCALENDAR
VERSION:2.0
PRODID:-//Ateneo Mercantil de Valencia - ECPv6.0.4//NONSGML v1.0//EN
CALSCALE:GREGORIAN
METHOD:PUBLISH
X-WR-CALNAME:Ateneo Mercantil de Valencia
X-ORIGINAL-URL:https://historico.ateneovalencia.es
X-WR-CALDESC:Eventos para Ateneo Mercantil de Valencia
REFRESH-INTERVAL;VALUE=DURATION:PT1H
X-Robots-Tag:noindex
X-PUBLISHED-TTL:PT1H
BEGIN:VTIMEZONE
TZID:Europe/Madrid
BEGIN:DAYLIGHT
TZOFFSETFROM:+0100
TZOFFSETTO:+0200
TZNAME:CEST
DTSTART:20200329T010000
END:DAYLIGHT
BEGIN:STANDARD
TZOFFSETFROM:+0200
TZOFFSETTO:+0100
TZNAME:CET
DTSTART:20201025T010000
END:STANDARD
END:VTIMEZONE
BEGIN:VEVENT
DTSTART;TZID=Europe/Madrid:20201112T190000
DTEND;TZID=Europe/Madrid:20201112T203000
DTSTAMP:20260425T133541
CREATED:20201111T115602Z
LAST-MODIFIED:20201111T122415Z
UID:60799-1605207600-1605213000@historico.ateneovalencia.es
SUMMARY:Presentación del poemario de Ricardo Bellveser: "Estanterías Vacías"
DESCRIPTION:Este jueves 12 de noviembre a las 19 horas se presenta en el Salón Sorolla del Ateneo Mercantil de Valencia el último poemario de Ricardo Bellveser\, "Estantería Vacías" que es el título número 8 de la colección Vuelta de Tuerca. El acto será presentado por el director de la Editorial Olé Libros\, Toni Alcolea e intervendrán\, el propio Ricardo Bellveser\, al que acompañarán dos poetas de gran prestigio como son José Antonio Olmedo\, que además\, escribe el prólogo del libro\, y el también filósofo y filólogo\, Jaime B. Rosa. Recuerden que el salón tiene el aforo limitado según normativa Covid19. \nSi quiere reservar su plaza para poder asistir a la presentación debe ponerse en contacto con el siguiente email: equipo@olelibros.com o llamar al teléfono 608980455\n'Estanterías vacías' supone la cumbre de la emotividad bellveseriana\, es la noche de esa primavera anticipada en su anterior título\, pero una noche luminosa\, un poemario crepuscular en el que la voz poética se presenta quizás más desnuda y más sincera que nunca para certificar que vida y poesía\, o poesía y vida\, son una misma cosa en la concepción poética de Ricardo Bellveser. \nY es eso mismo\, la vida de este poeta valenciano\, el eje vertebrador de este nuevo y esperado poemario. No encontraremos más que verdad en estas páginas\, algo que Bellveser le ha exigido a su poesía en sus últimos libros\, una verdad que no traiciona la aspiración creadora de un artista\, su anhelo estético\, pero es\, tal cual\, un discurso devenido de la experiencia\, expresado con toda la sinceridad que un amigo nos puede profesar. \nCartel:
URL:https://historico.ateneovalencia.es/evento/presentacion-del-poemario-de-ricardo-bellveser-estanterias-vacias/
LOCATION:Salón Sorolla - Ateneo Mercantil de Valencia\, Plaza del Ayuntamiento 18\, Valencia\, Valencia\, 46002\, España
CATEGORIES:Presentaciones Libros
ATTACH;FMTTYPE=image/jpeg:https://historico.ateneovalencia.es/wp-content/uploads/2020/11/20201112-Libro-Bellveser-Estanterias-Vacías.jpg
END:VEVENT
END:VCALENDAR