BEGIN:VCALENDAR
VERSION:2.0
PRODID:-//Ateneo Mercantil de Valencia - ECPv6.0.4//NONSGML v1.0//EN
CALSCALE:GREGORIAN
METHOD:PUBLISH
X-ORIGINAL-URL:https://historico.ateneovalencia.es
X-WR-CALDESC:Eventos para Ateneo Mercantil de Valencia
REFRESH-INTERVAL;VALUE=DURATION:PT1H
X-Robots-Tag:noindex
X-PUBLISHED-TTL:PT1H
BEGIN:VTIMEZONE
TZID:Europe/Madrid
BEGIN:DAYLIGHT
TZOFFSETFROM:+0100
TZOFFSETTO:+0200
TZNAME:CEST
DTSTART:20200329T010000
END:DAYLIGHT
BEGIN:STANDARD
TZOFFSETFROM:+0200
TZOFFSETTO:+0100
TZNAME:CET
DTSTART:20201025T010000
END:STANDARD
END:VTIMEZONE
BEGIN:VEVENT
DTSTART;TZID=Europe/Madrid:20201001T190000
DTEND;TZID=Europe/Madrid:20201001T210000
DTSTAMP:20260425T174553
CREATED:20200925T122149Z
LAST-MODIFIED:20200925T125656Z
UID:60066-1601578800-1601586000@historico.ateneovalencia.es
SUMMARY:Presentación del libro: "Ñ\, el manual de autoestima para españoles"
DESCRIPTION:El próximo jueves 1 de octubre a las 19 horas se presenta en el Hall del sexto piso del Ateneo Mercantil de Valencia un libro muy especial "Ñ\, el manual de autoestima para españoles" bajo la organización de la editorial Olélibros. Un manual necesario para ver el lado bueno de las cosas que tenemos los españoles. Desde la sanidad pasando por la historia\, la gastronomía\, el deporte\, la justicia\, la lengua y la literatura\, sin olvidar\, el cine o la música o esa gran solidaridad que como españoles llevamos a gala\, 20 autores de esta gran obra\, que nos permitirán ser más positivos. \nLa Ñ está en nuestra conciencia colectiva; esa que sin duda\, nos hace ser solidarios\, fuertes\, visionarios\, alegres y resistentes ante la adversidad. Qué verdad y qué verdades son las que se enmarcan en las letras de esta obra necesaria\, llegados a este tiempo de incertidumbre. Autores que desde puntos de vista muy diversos explicarán su España. La presidenta del Ateneo Mercantil\, Carmen De la Rosa\, ha sido una de las participantes y a ella le acompañan escritores\, ex deportistas\, cocineros\, poetas\, músicos\, fiscales... Aquí podrán encontrar escritos de Manuel Vicent; Luis María Anson; Ferran Garrido; Aurelio Soto; Santiago Cañizares; Javier Senent; Antonio Andrés Morejón; Rafael Soler; David Casinos\, Susana Gisbert\, Luis Alberto de Cuenca\, Manuel Mira\, José Juan San; Quique Dacosta; Bernardo Adam Ferrero; Jesús Del Real; Joaquín Juan Penalva; Rafael Hernández y Beatriz Domínguez. Además\, de contar con las magníficas ilustraciones de J. M. Nieto. 20 autores que nos recuerdan verdaderamente quiénes somos. \nCartel:
URL:https://historico.ateneovalencia.es/evento/presentacion-del-libro-n-el-manual-de-autoestima-para-espanoles/
LOCATION:Hall Restaurante - Ateneo Mercantil de Valencia\, Plaza del Ayuntamiento\, 18\, Valencia\, España\, Valencia\, Valencia\, 46002\, España
CATEGORIES:Presentaciones Libros
ATTACH;FMTTYPE=image/jpeg:https://historico.ateneovalencia.es/wp-content/uploads/2020/09/20201001-Presentacion-Libro-Ñ-1.jpg
END:VEVENT
END:VCALENDAR