BEGIN:VCALENDAR
VERSION:2.0
PRODID:-//Ateneo Mercantil de Valencia - ECPv6.0.4//NONSGML v1.0//EN
CALSCALE:GREGORIAN
METHOD:PUBLISH
X-WR-CALNAME:Ateneo Mercantil de Valencia
X-ORIGINAL-URL:https://historico.ateneovalencia.es
X-WR-CALDESC:Eventos para Ateneo Mercantil de Valencia
REFRESH-INTERVAL;VALUE=DURATION:PT1H
X-Robots-Tag:noindex
X-PUBLISHED-TTL:PT1H
BEGIN:VTIMEZONE
TZID:Europe/Madrid
BEGIN:DAYLIGHT
TZOFFSETFROM:+0100
TZOFFSETTO:+0200
TZNAME:CEST
DTSTART:20200329T010000
END:DAYLIGHT
BEGIN:STANDARD
TZOFFSETFROM:+0200
TZOFFSETTO:+0100
TZNAME:CET
DTSTART:20201025T010000
END:STANDARD
END:VTIMEZONE
BEGIN:VEVENT
DTSTART;TZID=Europe/Madrid:20200729T180000
DTEND;TZID=Europe/Madrid:20200729T200000
DTSTAMP:20260426T042603
CREATED:20200720T111106Z
LAST-MODIFIED:20200720T114811Z
UID:59736-1596045600-1596052800@historico.ateneovalencia.es
SUMMARY:Presentación del libro: "La verdad de la Pandemia. ¿Quién ha sido y por qué?" de Cristina Martín Jiménez
DESCRIPTION:El próximo miércoles 29 de julio a las 18 horas llega una nueva presentación on line de un libro en el Ateneo Mercantil. La escritora Cristina Martín Jiménez presenta en sociedad "La verdad de la Pandemia. ¿Quién ha sido y por qué?"\, una inquietante obra en la que todos los misterios sobre el Covid19 encontrarán una clara y contundente respuesta. \nEn la webinar intentaremos contestar a preguntas como: ¿Por qué una pandemia ahora?\, ¿Quién tiene interés en que nos quedemos en casa? o ¿Es verdad que el virus viene de China? \nTodas estas preguntas se han quedado sin respuesta durante los últimos meses\, aunque algunas teorías han comenzado a circular por los móviles y en algunos medios de comunicación. Hablaremos con Cristina Martín Jiménez\, autora del libro editado por Planeta. \nEnlace a la sesión: https://us02web.zoom.us/j/84313112282\nSinopsis del libro:\nEl 31 de diciembre de 2019 China informó a la Organización Mundial de la Salud (OMS) sobre la aparición de varios casos de neumonía de causa desconocida en Wuhan\, ciudad de la provincia de Hubei. El 23 de enero se cerró Hubei. El 31 de enero la OMS decretó la emergencia sanitaria global. Después de que el máximo organismo a nivel mundial de la salud declarase la aparición de esta pandemia global y los periodistas\, gobernantes y políticos ―aunque no todos― la aceptaran sin rechistar\, las preguntas\, angustiosas\, se sucedieron sin respuesta: ¿Por qué tanta insistencia en parar el mundo\, en confinarnos en casa? ¿Cuál era el origen real del virus? ¿Había contado China la verdad? ¿Fue un ataque de Estados Unidos? Para Cristina Martín\, después de muchos años dedicada al estudio del mundo geo-político-económico\, el contexto de la crisis del covid-19 estaba claro: era una guerra\, y es que los sucesos geopolíticos no ocurren aislados\, todos están interconectados entre sí\, y\, además\, suceden en unas circunstancias concretas y con unos intereses económicos y de lobbys de poder muy precisos. \nCurriculum de la escritora:\nCristina Martín Jiménez es escritora\, conferenciante y doctora en Comunicación y Periodismo. Es pionera tanto en la publicación del primer libro en el mundo sobre el Club Bilderberg (Almuzara\, abril 2005) como en la defensa de la primera tesis doctoral de estructura crítica sobre dicha entidad (Sevilla\, julio 2017). Calificada con sobresaliente Cum Laude\, demuestra los vínculos existentes entre el Poder y los conglomerados de comunicación globales. La autora lleva 16 años dedicada a la investigación de la elite del poder y de sus estrategias para gobernar la globalización. Por ello\, en su extensa obra ha predicho la situación que vivimos hoy. Hace diez años advirtió en uno de sus libros de «la táctica de la pandemia» como método para la dominación y la implantación de un nuevo orden mundial deshumanizado y totalitario. Asimismo\, es autora de la exitosa saga sobre el Club Bilderberg\, que ya son libros de referencia. \nCartel:
URL:https://historico.ateneovalencia.es/evento/presentacion-del-libro-la-verdad-de-la-pandemia-quien-ha-sido-y-por-que-de-cristina-martin-jimenez/
LOCATION:On line
CATEGORIES:Presentaciones Libros
ATTACH;FMTTYPE=image/jpeg:https://historico.ateneovalencia.es/wp-content/uploads/2020/07/20200729-Presentacion-Libro-Covid19.jpg
END:VEVENT
END:VCALENDAR