BEGIN:VCALENDAR
VERSION:2.0
PRODID:-//Ateneo Mercantil de Valencia - ECPv6.0.4//NONSGML v1.0//EN
CALSCALE:GREGORIAN
METHOD:PUBLISH
X-WR-CALNAME:Ateneo Mercantil de Valencia
X-ORIGINAL-URL:https://historico.ateneovalencia.es
X-WR-CALDESC:Eventos para Ateneo Mercantil de Valencia
REFRESH-INTERVAL;VALUE=DURATION:PT1H
X-Robots-Tag:noindex
X-PUBLISHED-TTL:PT1H
BEGIN:VTIMEZONE
TZID:Europe/Madrid
BEGIN:DAYLIGHT
TZOFFSETFROM:+0100
TZOFFSETTO:+0200
TZNAME:CEST
DTSTART:20250330T010000
END:DAYLIGHT
BEGIN:STANDARD
TZOFFSETFROM:+0200
TZOFFSETTO:+0100
TZNAME:CET
DTSTART:20251026T010000
END:STANDARD
END:VTIMEZONE
BEGIN:VEVENT
DTSTART;TZID=Europe/Madrid:20250515T190000
DTEND;TZID=Europe/Madrid:20250515T203000
DTSTAMP:20260426T042521
CREATED:20250205T132414Z
LAST-MODIFIED:20250509T120830Z
UID:83041-1747335600-1747341000@historico.ateneovalencia.es
SUMMARY:El Intertestamento. La Biblia entre el Antiguo y el Nuevo Testamento
DESCRIPTION:El Ateneo Mercantil de Valencia organiza una nueva conferencia dentro del Ciclo Grandes Enigmas de la Humanidad en la que se explorará la literatura intertestamentaria\, fundamental para comprender el judaísmo del Segundo Templo y los orígenes del cristianismo. \nEnlace para el Online: https://youtu.be/ORh1Q8zraRk\nDetalles del evento:\n\n📅 Fecha: Jueves 15 de mayo de 2025\n⏰ Hora: 19:00 horas\n📍 Lugar: Teatro Ateneo\, Ateneo Mercantil de Valencia (Plaza del Ayuntamiento\, 18\, Valencia)\n🎟️ Entrada: Libre y gratuita\n\nPonente:\n\nProf. Dr. Jaime Vázquez Allegue – Doctor en Teología Bíblica\, especialista en paleografía de los manuscritos del Mar Muerto y profesor titular en el CESAG-Universidad Pontificia Comillas.\n\nSobre la conferencia:\nEntre el Antiguo Testamento y el Nuevo Testamento\, existe un conjunto de escritos que no forman parte de la Biblia judía ni del cristianismo primitivo\, pero que resultan esenciales para comprender la evolución religiosa y cultural de la época. Estos textos permiten entender mejor el judaísmo del Segundo Templo y el contexto en el que surgió el cristianismo. \nEl Prof. Dr. Jaime Vázquez Allegue\, con una extensa trayectoria académica y autor de quince libros sobre la Biblia y los manuscritos del Mar Muerto\, nos ofrece esta conferencia basada en su obra más reciente: "El Intertestamento. La Biblia entre el Antiguo Testamento y el Nuevo Testamento" (Editorial PPC\, Madrid 2024). \n¡No te pierdas esta fascinante conferencia que arrojará luz sobre uno de los períodos más enigmáticos de la historia bíblica! \nCartel:
URL:https://historico.ateneovalencia.es/evento/el-intertestamento-la-biblia-entre-el-antiguo-y-el-nuevo-testamento/
LOCATION:Teatro Ateneo
CATEGORIES:Ciclo Grandes Enigmas de la Humanidad
ATTACH;FMTTYPE=image/jpeg:https://historico.ateneovalencia.es/wp-content/uploads/2025/02/20250517-Intertestamento.jpg
END:VEVENT
BEGIN:VEVENT
DTSTART;TZID=Europe/Madrid:20250515T190000
DTEND;TZID=Europe/Madrid:20250515T203000
DTSTAMP:20260426T042521
CREATED:20250509T090240Z
LAST-MODIFIED:20250509T090243Z
UID:83873-1747335600-1747341000@historico.ateneovalencia.es
SUMMARY:I Ciclo de Edificios Emblemáticos de Valencia: Real Colegio Seminario del Corpus Christi – El Patriarca
DESCRIPTION:El próximo jueves 15 de mayo a las 19 h.\, el Salón Sorolla acoge una nueva sesión del I Ciclo de Edificios Emblemáticos de Valencia con una conferencia dedicada a uno de los grandes tesoros del renacimiento valenciano: el Real Colegio Seminario del Corpus Christi\, conocido como El Patriarca. \nLa ponencia estará a cargo del Prof. Dr. Daniel Benito Goerlich\, Catedrático y Director del Museo del Real Colegio Seminario del Corpus Christi de Valencia\, quien nos guiará por la historia\, el arte y el legado de este monumento singular fundado en el siglo XVI por San Juan de Ribera\, arzobispo de Valencia y patriarca de Antioquía. \nEste edificio no solo representa una de las joyas arquitectónicas del Renacimiento en la ciudad\, sino también un reflejo del espíritu conciliar posterior al Cisma de la Iglesia\, en el que el arte se convirtió en medio de transmisión doctrinal y diálogo con la población. \nDurante la conferencia se explorarán espacios tan destacados como sus capillas\, el archivo documental\, la biblioteca histórica\, el claustro renacentista y\, por supuesto\, el Museo del Patriarca\, que conserva la colección artística iniciada por el propio San Juan de Ribera. \n📍 Salón Sorolla📅 Jueves\, 15 de mayo🕖 19:00 horas🎟️ Entrada libre y gratuita hasta completar aforo \nUna oportunidad única para conocer a fondo uno de los monumentos más representativos de nuestra historia y patrimonio. \nCartel:
URL:https://historico.ateneovalencia.es/evento/i-ciclo-de-edificios-emblematicos-de-valencia-real-colegio-seminario-del-corpus-christi-el-patriarca/
LOCATION:Salón Sorolla - Ateneo Mercantil de Valencia\, Plaza del Ayuntamiento 18\, Valencia\, Valencia\, 46002\, España
CATEGORIES:Ciclo Edificios emblemáticos de Valencia
ATTACH;FMTTYPE=image/jpeg:https://historico.ateneovalencia.es/wp-content/uploads/2025/05/20250515-Edificios-Emblematicos-Patriarca.jpg
END:VEVENT
END:VCALENDAR