BEGIN:VCALENDAR
VERSION:2.0
PRODID:-//Ateneo Mercantil de Valencia - ECPv6.0.4//NONSGML v1.0//EN
CALSCALE:GREGORIAN
METHOD:PUBLISH
X-ORIGINAL-URL:https://historico.ateneovalencia.es
X-WR-CALDESC:Eventos para Ateneo Mercantil de Valencia
REFRESH-INTERVAL;VALUE=DURATION:PT1H
X-Robots-Tag:noindex
X-PUBLISHED-TTL:PT1H
BEGIN:VTIMEZONE
TZID:Europe/Madrid
BEGIN:DAYLIGHT
TZOFFSETFROM:+0100
TZOFFSETTO:+0200
TZNAME:CEST
DTSTART:20250330T010000
END:DAYLIGHT
BEGIN:STANDARD
TZOFFSETFROM:+0200
TZOFFSETTO:+0100
TZNAME:CET
DTSTART:20251026T010000
END:STANDARD
END:VTIMEZONE
BEGIN:VEVENT
DTSTART;TZID=Europe/Madrid:20250508T190000
DTEND;TZID=Europe/Madrid:20250508T203000
DTSTAMP:20260421T205133
CREATED:20250405T081652Z
LAST-MODIFIED:20250425T071700Z
UID:83515-1746730800-1746736200@historico.ateneovalencia.es
SUMMARY:Mentores clásicos para una crisis actual: mito\, historia y filosofía
DESCRIPTION:En un mundo marcado por la incertidumbre\, donde las religiones y las ideologías han dejado un vacío\, la autoayuda y la psicología han tratado de llenar ese espacio de búsqueda de sentido. Sin embargo\, en los últimos años\, ha resurgido una alternativa poderosa: volver a los clásicos. \nEnlace para el Online: https://youtu.be/yg-V4Blvda0\nEsta Conferencia Online propone redescubrir a los grandes pensadores de la Antigüedad como mentores atemporales capaces de orientarnos en tiempos de crisis.¿Es posible escuchar su voz sin filtros? ¿Podemos recuperar su sabiduría hoy? \nEl Profesor Hernández de la Fuente nos invita a una triple aproximación a los clásicos: \n\n\n📚 La filosofía\, no como simple asignatura\, sino como guía vital. \n\n\n🏛️ La literatura\, rica en lecciones míticas con resonancia actual. \n\n\n🕰️ La historia\, esa maestra ciceroniana que ofrece perspectiva y aprendizaje. \n\n\nVolver a los textos grecolatinos\, en traducciones y lecturas renovadas\, es más que una experiencia intelectual: es una receta contra la sinrazón de nuestros días. \n🗓️ Jueves 8 de mayo de 2025🕖 19:00 h (hora peninsular española)📍 Evento online \n\n👤 Impartida por el Profesor Dr. David Hernández de la Fuente\nCatedrático en el Departamento de Filología Clásica de la Universidad Complutense de Madrid. Es Doctor en Filología Clásica y también Doctor en Historia Social de la Antigüedad\, con una formación académica e investigadora que combina el rigor filológico con una visión interdisciplinar de las humanidades clásicas. \nSu labor se ha centrado en el estudio del mundo grecolatino desde una perspectiva que integra literatura\, filosofía\, religión e historia. Ha sido profesor e investigador en diversas universidades e instituciones internacionales de prestigio como Columbia Univ.\, Univ. di Firenze\, CNRS (París)\, Akademie der Wissenschaften (Berlín)\, Univ. Paris-X o Freie Univ. Berlin. \nEs autor de una amplia producción científica y divulgativa que incluye monografías\, traducciones y ensayos sobre el pensamiento antiguo\, la literatura clásica\, el neoplatonismo\, el mito y la religión en Grecia y Roma. Entre sus obras más destacadas figuran "Oráculos griegos"\, "El despertar del alma"\, "Vidas de Pitágoras"\, o "Mitología clásica"\, así como numerosos artículos académicos. \nColabora habitualmente con medios de comunicación y es también traductor y ensayista\, con un firme compromiso con la difusión del legado clásico como herramienta de pensamiento crítico y reflexión humanística para el mundo contemporáneo. \n\n✅ Conferencia gratuita y libre\nNo pierdas la oportunidad de asistir a una charla profundamente inspiradora y necesaria para nuestro tiempo. \nCartel:
URL:https://historico.ateneovalencia.es/evento/mentores-clasicos-para-una-crisis-actual-mito-historia-y-filosofia/
LOCATION:On line
CATEGORIES:Ciclo de Conferencias
ATTACH;FMTTYPE=image/jpeg:https://historico.ateneovalencia.es/wp-content/uploads/2025/04/20250422-Mentores-Clasicos-Crisis-Actual.jpg
END:VEVENT
END:VCALENDAR