BEGIN:VCALENDAR
VERSION:2.0
PRODID:-//Ateneo Mercantil de Valencia - ECPv6.0.4//NONSGML v1.0//EN
CALSCALE:GREGORIAN
METHOD:PUBLISH
X-ORIGINAL-URL:https://historico.ateneovalencia.es
X-WR-CALDESC:Eventos para Ateneo Mercantil de Valencia
REFRESH-INTERVAL;VALUE=DURATION:PT1H
X-Robots-Tag:noindex
X-PUBLISHED-TTL:PT1H
BEGIN:VTIMEZONE
TZID:Europe/Madrid
BEGIN:DAYLIGHT
TZOFFSETFROM:+0100
TZOFFSETTO:+0200
TZNAME:CEST
DTSTART:20250330T010000
END:DAYLIGHT
BEGIN:STANDARD
TZOFFSETFROM:+0200
TZOFFSETTO:+0100
TZNAME:CET
DTSTART:20251026T010000
END:STANDARD
END:VTIMEZONE
BEGIN:VEVENT
DTSTART;TZID=Europe/Madrid:20250414T190000
DTEND;TZID=Europe/Madrid:20250414T203000
DTSTAMP:20260422T151101
CREATED:20250225T130424Z
LAST-MODIFIED:20250411T124441Z
UID:83234-1744657200-1744662600@historico.ateneovalencia.es
SUMMARY:La Dama de Elche: la primera reina en la historia de España
DESCRIPTION:La Dama de Elche es una de las piezas más emblemáticas del arte ibérico\, datada en torno al siglo V a.C. Descubierta en 1897 por trabajadores agrícolas en la ciudad de Elche\, fue inicialmente conocida como "Reina Mora". Posteriormente\, fue vendida a un arqueólogo francés por 4.000 francos y trasladada al Museo del Louvre\, donde recibió el nombre con el que es mundialmente conocida hoy en día. \nEnlace para el Online: https://youtu.be/XqnHF1SNedY\nEn 1941\, durante la Segunda Guerra Mundial\, la escultura fue recuperada y repatriada a España\, siendo acogida inicialmente por el Museo del Prado hasta 1971\, cuando fue trasladada al Museo Arqueológico Nacional. Aunque tradicionalmente se ha considerado que representa a una mujer\, algunas teorías sugieren que podría tratarse de un guerrero homenajeado. \nEl Prof. Dr. Martín Almagro Gorbea ofrecerá una conferencia en la que explorará la historia\, el significado y las controversias en torno a esta enigmática figura del patrimonio español. No se pierda esta oportunidad única de profundizar en la historia de la Dama de Elche de la mano de un experto de renombre. \nDetalles de la conferencia:\n🎭 Título: La Dama de Elche: La primera reina en la historia de España \n🗣️ Conferenciante: Prof. Dr. Martín Almagro Gorbea. Doctor en Historia por la Complutense\, Arqueólogo\, Académico de la Real Academia de la Historia \n📅 Fecha: Lunes\, 14 de abril de 2025⏰ Hora: 19:00 h \n📍 Lugar: Teatro Ateneo (3ª planta del Ateneo Mercantil). Plaza del Ayuntamiento\, 18 – Valencia \n🎟️ Entrada libre y gratuita hasta completar aforo \nCartel:
URL:https://historico.ateneovalencia.es/evento/la-dama-de-elche-la-primera-reina-en-la-historia-de-espana/
LOCATION:Teatro Ateneo
CATEGORIES:Ciclo de Conferencias
ATTACH;FMTTYPE=image/jpeg:https://historico.ateneovalencia.es/wp-content/uploads/2025/02/20250414-Dama-de-Elche.jpg
END:VEVENT
END:VCALENDAR