BEGIN:VCALENDAR
VERSION:2.0
PRODID:-//Ateneo Mercantil de Valencia - ECPv6.0.4//NONSGML v1.0//EN
CALSCALE:GREGORIAN
METHOD:PUBLISH
X-ORIGINAL-URL:https://historico.ateneovalencia.es
X-WR-CALDESC:Eventos para Ateneo Mercantil de Valencia
REFRESH-INTERVAL;VALUE=DURATION:PT1H
X-Robots-Tag:noindex
X-PUBLISHED-TTL:PT1H
BEGIN:VTIMEZONE
TZID:Europe/Madrid
BEGIN:DAYLIGHT
TZOFFSETFROM:+0100
TZOFFSETTO:+0200
TZNAME:CEST
DTSTART:20250330T010000
END:DAYLIGHT
BEGIN:STANDARD
TZOFFSETFROM:+0200
TZOFFSETTO:+0100
TZNAME:CET
DTSTART:20251026T010000
END:STANDARD
END:VTIMEZONE
BEGIN:VEVENT
DTSTART;TZID=Europe/Madrid:20250219T190000
DTEND;TZID=Europe/Madrid:20250219T203000
DTSTAMP:20260422T234615
CREATED:20250204T095443Z
LAST-MODIFIED:20250214T122422Z
UID:83019-1739991600-1739997000@historico.ateneovalencia.es
SUMMARY:La Gran Guerra: la eclosión sangrienta de una nueva era
DESCRIPTION:El Ateneo Mercantil de Valencia tiene el placer de invitarles a la conferencia titulada "La Gran Guerra: la eclosión sangrienta de una nueva era"\, que impartirá D. Carlos-Alberto Precioso Estiguín\, Licenciado en Derecho y en Geografía e Historia por la Universitat de València. Especialista en Historia Militar. \nEnlace para el Online: https://youtu.be/6QtI5ChmT-Y\nDetalles del evento:\n\n📅 Fecha: Miércoles 19 de febrero de 2025\n⏰ Hora: 19:00 horas\n📍 Lugar: Teatro Ateneo\, Ateneo Mercantil de Valencia (Plaza del Ayuntamiento\, 18\, Valencia)\n🎟️ Entrada: Libre y gratuita\n\nSobre la conferencia:\nLa Primera Guerra Mundial supone uno de los giros más trascendentales en la historia contemporánea de Europa y del mundo\, comparable o incluso superior a las revoluciones burguesas de finales del siglo XVIII. Tras ella\, nada volvería a ser igual\, y sus efectos todavía se sienten en la actualidad. \nAcompáñanos en esta conferencia para analizar el impacto y las consecuencias de este conflicto que marcó el inicio de una nueva era. \n¡No te lo pierdas! \nCartel:
URL:https://historico.ateneovalencia.es/evento/la-gran-guerra-la-eclosion-sangrienta-de-una-nueva-era/
LOCATION:Teatro Ateneo
CATEGORIES:Ciclo de Conferencias
ATTACH;FMTTYPE=image/jpeg:https://historico.ateneovalencia.es/wp-content/uploads/2025/02/20250219-La-Gran-Guerra.jpg
END:VEVENT
END:VCALENDAR