BEGIN:VCALENDAR
VERSION:2.0
PRODID:-//Ateneo Mercantil de Valencia - ECPv6.0.4//NONSGML v1.0//EN
CALSCALE:GREGORIAN
METHOD:PUBLISH
X-ORIGINAL-URL:https://historico.ateneovalencia.es
X-WR-CALDESC:Eventos para Ateneo Mercantil de Valencia
REFRESH-INTERVAL;VALUE=DURATION:PT1H
X-Robots-Tag:noindex
X-PUBLISHED-TTL:PT1H
BEGIN:VTIMEZONE
TZID:Europe/Madrid
BEGIN:DAYLIGHT
TZOFFSETFROM:+0100
TZOFFSETTO:+0200
TZNAME:CEST
DTSTART:20250330T010000
END:DAYLIGHT
BEGIN:STANDARD
TZOFFSETFROM:+0200
TZOFFSETTO:+0100
TZNAME:CET
DTSTART:20251026T010000
END:STANDARD
END:VTIMEZONE
BEGIN:VEVENT
DTSTART;TZID=Europe/Madrid:20250217T190000
DTEND;TZID=Europe/Madrid:20250217T203000
DTSTAMP:20260422T151048
CREATED:20250204T130323Z
LAST-MODIFIED:20250213T130718Z
UID:83029-1739818800-1739824200@historico.ateneovalencia.es
SUMMARY:Los arcos de triunfo en Roma. Análisis y significado
DESCRIPTION:El Ateneo Mercantil de Valencia tiene el placer de invitarles a una nueva conferencia sobre la arquitectura romana: "Los arcos de triunfo en Roma. Análisis y significado". Uno de los monumentos más emblemáticos de la arquitectura romana son los arcos de triunfo\, estructuras aparentemente sencillas\, pero de gran simbolismo. Aunque existieron muchos en la ciudad de Roma\, en la actualidad solo se conservan completos tres de ellos: el Arco de Tito\, el Arco de Septimio Severo y el Arco de Constantino\, todos de gran valor estético e iconográfico. \nEnlace para el Online: https://youtu.be/LFs_7adLres\nEn esta conferencia\, la Prof. Dra. Cristina Aldana Nácher analizará la importancia de estos monumentos\, su función en la Roma antigua y su legado en la historia de la arquitectura. \n¡No te pierdas esta fascinante exploración sobre el simbolismo de los arcos triunfales romanos! \nDetalles del evento:\n\n📅 Fecha: Lunes 17 de febrero de 2025\n⏰ Hora: 19:00 horas\n📍 Lugar: Teatro Ateneo\, Ateneo Mercantil de Valencia (Plaza del Ayuntamiento\, 18\, Valencia)\n\n🎟️ Entrada: Libre y gratuita \n\n\nCartel:
URL:https://historico.ateneovalencia.es/evento/los-arcos-de-triunfo-en-roma-analisis-y-significado/
LOCATION:Teatro Ateneo
CATEGORIES:Ciclo de Conferencias
ATTACH;FMTTYPE=image/jpeg:https://historico.ateneovalencia.es/wp-content/uploads/2025/02/20250217-Arco-Triunfo-Constantino.jpg
END:VEVENT
END:VCALENDAR