BEGIN:VCALENDAR
VERSION:2.0
PRODID:-//Ateneo Mercantil de Valencia - ECPv6.0.4//NONSGML v1.0//EN
CALSCALE:GREGORIAN
METHOD:PUBLISH
X-WR-CALNAME:Ateneo Mercantil de Valencia
X-ORIGINAL-URL:https://historico.ateneovalencia.es
X-WR-CALDESC:Eventos para Ateneo Mercantil de Valencia
REFRESH-INTERVAL;VALUE=DURATION:PT1H
X-Robots-Tag:noindex
X-PUBLISHED-TTL:PT1H
BEGIN:VTIMEZONE
TZID:Europe/Madrid
BEGIN:DAYLIGHT
TZOFFSETFROM:+0100
TZOFFSETTO:+0200
TZNAME:CEST
DTSTART:20250330T010000
END:DAYLIGHT
BEGIN:STANDARD
TZOFFSETFROM:+0200
TZOFFSETTO:+0100
TZNAME:CET
DTSTART:20251026T010000
END:STANDARD
END:VTIMEZONE
BEGIN:VEVENT
DTSTART;TZID=Europe/Madrid:20250124T100000
DTEND;TZID=Europe/Madrid:20250124T130000
DTSTAMP:20260425T234658
CREATED:20250123T092838Z
LAST-MODIFIED:20250123T093031Z
UID:82822-1737712800-1737723600@historico.ateneovalencia.es
SUMMARY:Jornada "La vivienda de uso turístico en la Comunidad Valenciana: Casuísticas y Singularidades" - COAT Valencia
DESCRIPTION:La vivienda de uso turístico es un sector en pleno auge que está transformando el panorama urbano y turístico de la Comunidad Valenciana. Sin embargo\, su crecimiento viene acompañado de retos normativos\, técnicos y urbanísticos que afectan a promotores\, arquitectos y otros profesionales del sector. \nEsta jornada tiene como objetivo proporcionar una visión global y actualizada sobre las casuísticas y singularidades de las viviendas de uso turístico\, así como analizar las recientes modificaciones legislativas y las tendencias en este ámbito. \n🗓 Fecha: Viernes\, 24 de enero de 2025\n⏰ Horario: De 10 a 13 horas\n📍 Lugar: Salón Sorolla. Ateneo Mercantil de Valencia (Plaza del Ayuntamiento\, 18. 46002\, Valencia)\n💰 Inscripción: Jornada gratuita. Para asistir debe inscribirse en este enlace: https://www.caatvalencia.es/pub/formacioncurso.aspx?codigo=10001538 \n\nPrograma de la jornada\n10:00 h - Presentación de la jornada \n\nSalvador Mocholí Alabau: Vicepresidente de COAT Valencia\n\n10:15 h - Principales novedades del Decreto-ley 9/2024\, de 2 de agosto\, del Consell\, de modificación de la normativa reguladora de las viviendas de uso turístico. \n\nMarta Echevarría Llombart: Subdirectora General de Turismo. Conselleria de Innovación\, Industria\, Comercio y Turismo.\n\n10:30 h - Aplicación de las normas de diseño y calidad en las viviendas de uso turístico. \n\nGregorio Somolinos Chicharro: Técnico de Inspección de Turismo. Conselleria de Innovación\, Industria\, Comercio y Turismo.\n\n10:45 h - Reconversión de espacios: Viviendas Turísticas y Nuevas Dinámicas Urbanas. \n\nDaniel Grimalt Ivars y Jose Ramón Mondéjar: Cofundadores del estudio de arquitectura e interiorismo Studio Base. Arquitectos técnicos.\n\n11:15 h - La vivienda de uso turístico: tramitación con ECUV y normativa de aplicación. \n\nNuria Moya Llorens: Directora técnica ECUV en EIC Control Reglamentario. Arquitecta.\n\n11:45 h - Apartamentos turísticos: dato y relato. \n\nJaime Gil Rescalvo: CEO Spain de PropHero.\nJorge Navarro Reyes: Arquitecto y Head of Renovations de PropHero.\n\n12:15 h - Mesa redonda: Situación actual de la vivienda de uso turístico en la Comunidad Valenciana. \n\nModeradora: Almudena Jardón Giner\, Responsable del Área de Ejercicio Profesional de COAT Valencia.\n\n13:00 h - Cierre del evento. \n\n¿A quién va dirigido?\n\nProfesionales del sector turístico y urbanístico.\nArquitectos\, arquitectos técnicos e ingenieros.\nRepresentantes de empresas de gestión de viviendas turísticas.\nInteresados en la normativa y las tendencias en este ámbito.\n\n\n¡No te lo pierdas!\nLa jornada será una oportunidad única para conocer los desafíos y oportunidades que ofrece este sector\, así como para resolver dudas con expertos de primer nivel. \n👉 Inscríbete ahora y asegura tu plaza. \nCartel:
URL:https://historico.ateneovalencia.es/evento/jornada-la-vivienda-de-uso-turistico-en-la-comunidad-valenciana-casuisticas-y-singularidades-coat-valencia/
LOCATION:Salón Sorolla - Ateneo Mercantil de Valencia\, Plaza del Ayuntamiento 18\, Valencia\, Valencia\, 46002\, España
CATEGORIES:Ciclo de Conferencias
ATTACH;FMTTYPE=image/jpeg:https://historico.ateneovalencia.es/wp-content/uploads/2025/01/20250124-jornada-Pisos-Turisticos-COAT-Valencia.jpg
END:VEVENT
END:VCALENDAR