BEGIN:VCALENDAR
VERSION:2.0
PRODID:-//Ateneo Mercantil de Valencia - ECPv6.0.4//NONSGML v1.0//EN
CALSCALE:GREGORIAN
METHOD:PUBLISH
X-ORIGINAL-URL:https://historico.ateneovalencia.es
X-WR-CALDESC:Eventos para Ateneo Mercantil de Valencia
REFRESH-INTERVAL;VALUE=DURATION:PT1H
X-Robots-Tag:noindex
X-PUBLISHED-TTL:PT1H
BEGIN:VTIMEZONE
TZID:Europe/Madrid
BEGIN:DAYLIGHT
TZOFFSETFROM:+0100
TZOFFSETTO:+0200
TZNAME:CEST
DTSTART:20240331T010000
END:DAYLIGHT
BEGIN:STANDARD
TZOFFSETFROM:+0200
TZOFFSETTO:+0100
TZNAME:CET
DTSTART:20241027T010000
END:STANDARD
END:VTIMEZONE
BEGIN:VEVENT
DTSTART;TZID=Europe/Madrid:20241209T190000
DTEND;TZID=Europe/Madrid:20241209T203000
DTSTAMP:20260421T233204
CREATED:20241002T111204Z
LAST-MODIFIED:20241112T124743Z
UID:81694-1733770800-1733776200@historico.ateneovalencia.es
SUMMARY:Els ponts històrics de la ciutat de Valéncia
DESCRIPTION:La ciudad de Valencia\, tras elevar definitivamente los protectores pretiles entre 1591 y 1729\, se comunicaba con los territorios del norte mediante cinco grandes puentes pétreos\, cuyas trazas finales son deudoras de la mejor arquitectura medieval. \n\nEl Puente de San José (143 longitud total y 9’9 m. ancho del tablero)\, también llamado Nou o Nuevo por ser el más moderno de los históricos.\nEl Puente de Serranos (159’7m. y 11’2 m.)\, conocido como al-Qantara por los musulmanes y superior por los cristianos.\nPuente de la Trinidad (158’5 m. y 10’4 m.)\, conocido antiguamente como el de els Catalans. Es el más antiguo de los puentes históricos\nPuente del Real (171 m. y 27’5 m.) y fue construido de nueva planta entre 1594 y 1599 tras adjudicar las obras a Guillem Salvador\, Jeroni Negret\, Francesc Antón y Joan Pascual.\nPuente del Mar (160 m. y 8’35 m.) que\, situado extramuros\, comunicaba la ciudad con el puerto y los poblados marítimos.\n\nTítulo: Els ponts històrics de la ciutat de Valéncia \n(La conferencia será en castellano por deferencia a nuestros espectadores del Canal de Youtube que no son valenciano parlantes)  \nConferenciante: Òscar Rueda Pitarque. Vicepresidente de Formación de Lo Rat Penat y Académico de Número de la RACV \nDía: Jueves\, 9 de diciembre de 2024 \nHora: 19 horas \nLugar: Salón Sorolla \nEntrada libre y gratuita hasta completar aforo. \nCartel:
URL:https://historico.ateneovalencia.es/evento/els-ponts-historics-de-la-ciutat-de-valencia/
LOCATION:Salón Sorolla - Ateneo Mercantil de Valencia\, Plaza del Ayuntamiento 18\, Valencia\, Valencia\, 46002\, España
CATEGORIES:Ciclo de Conferencias,Fundación A.M. C.V.
ATTACH;FMTTYPE=image/jpeg:https://historico.ateneovalencia.es/wp-content/uploads/2024/10/20241114-Ponts-historics-Valencia-1.jpg
END:VEVENT
BEGIN:VEVENT
DTSTART;TZID=Europe/Madrid:20241209T190000
DTEND;TZID=Europe/Madrid:20241209T203000
DTSTAMP:20260421T233204
CREATED:20241124T124641Z
LAST-MODIFIED:20241203T105103Z
UID:82271-1733770800-1733776200@historico.ateneovalencia.es
SUMMARY:Dalí: El personaje
DESCRIPTION:Tras el éxito la primera conferencia sobre la obra de Salvador Dalí que dio Salvador Ortells en el Ateneo\, ahora nos trae a Dalí\, el personaje. Dalí fue uno de los artistas más influyentes del siglo XX y destacó tanto por su genio creativo como por su personalidad excéntrica. Desde su infancia\, marcada por la muerte de su hermano mayor\, Dalí enfrentó complejas dinámicas familiares que influyeron profundamente en su obra y su construcción personal. Bautizado con el mismo nombre que su hermano fallecido\, Dalí cargó con un simbolismo que alimentó su sentido del "doble" y su relación con la vida\, la muerte y la identidad\, temas recurrentes en sus creaciones. \nEnlace para el Online: https://youtu.be/GERa4TGY0Rg\nEl artista desarrolló un complejo narcisista y megalomaníaco que lo llevó a construirse como el "divino Dalí". A través de su método paranoico-crítico y su relación con Gala\, Dalí logró estabilizarse emocionalmente y consolidarse como un referente del surrealismo. Además\, su vida fue una constante performance\, y su obra autobiográfica mezcla realidad y fantasía\, lo que evidencia la dificultad de separar su vida personal de su arte. La figura paterna también jugó un papel crucial en la subjetividad de Dalí\, aunque de manera conflictiva. \nTítulo: Dalí. El personaje \nConferenciante: D. Salvador Ortells Rosell \nDía: Lunes\, 9 de diciembre de 2024 \nHora: 19 horas \nLugar: Teatro Ateneo \nEntrada libre y gratuita hasta completar aforo. \nCartel:
URL:https://historico.ateneovalencia.es/evento/dali-el-personaje/
LOCATION:Teatro Ateneo
CATEGORIES:Ciclo de Conferencias
ATTACH;FMTTYPE=image/jpeg:https://historico.ateneovalencia.es/wp-content/uploads/2024/11/20241209-Dali-Personaje-1.jpg
END:VEVENT
END:VCALENDAR