BEGIN:VCALENDAR
VERSION:2.0
PRODID:-//Ateneo Mercantil de Valencia - ECPv6.0.4//NONSGML v1.0//EN
CALSCALE:GREGORIAN
METHOD:PUBLISH
X-ORIGINAL-URL:https://historico.ateneovalencia.es
X-WR-CALDESC:Eventos para Ateneo Mercantil de Valencia
REFRESH-INTERVAL;VALUE=DURATION:PT1H
X-Robots-Tag:noindex
X-PUBLISHED-TTL:PT1H
BEGIN:VTIMEZONE
TZID:Europe/Madrid
BEGIN:DAYLIGHT
TZOFFSETFROM:+0100
TZOFFSETTO:+0200
TZNAME:CEST
DTSTART:20240331T010000
END:DAYLIGHT
BEGIN:STANDARD
TZOFFSETFROM:+0200
TZOFFSETTO:+0100
TZNAME:CET
DTSTART:20241027T010000
END:STANDARD
END:VTIMEZONE
BEGIN:VEVENT
DTSTART;TZID=Europe/Madrid:20241021T190000
DTEND;TZID=Europe/Madrid:20241021T203000
DTSTAMP:20260421T213203
CREATED:20240702T111701Z
LAST-MODIFIED:20241010T101235Z
UID:80705-1729537200-1729542600@historico.ateneovalencia.es
SUMMARY:¿Existe Dios? La ciencia demuestra que sí
DESCRIPTION:José Carlos González-Hurtado aborda el tema de la relación entre ciencia y religión combinando diversos enfoques (histórico\, cultural\, testimonial\, divulgativo\, sociológico) y prestando especial atención a los debates científicos actuales y de los dos últimos siglos. No se limita a refutar la leyenda urbana de la incompatibilidad entre ambas formas de conocimiento. \nEnlace para el Online: https://youtu.be/-XNc9mXpvGg\nSu objetivo es demostrar que una mirada sin prejuicios al panorama de la ciencia moderna lleva necesariamente a la idea de Dios. Para ello nos presentará argumentos de peso apoyándose en abundante documentación y usando su estilo desenfadado. José Carlos González-Hurtado desmontará muchos mitos falsos sobre la imposibilidad de la existencia de Dios. Una conferencia que organiza el Ateneo Mercantil de Valencia y la Asociación Amistad Judeo-Cristiana. \nTítulo: ¿Existe Dios? La ciencia demuestra que sí \nConferenciante: José Carlos González-Hurtado. Autor del libro "Nuevas evidencias científicas de la existencia de Dios". \nDía: Lunes 21 de octubre de 2024 \nHora: 19 horas \nLugar: Teatro Ateneo \nEntrada libre y gratuita hasta completar aforo. \nCurrículum abreviado de González-Hurtado:\nJosé Carlos González-Hurtado (Madrid 1964) es el Presidente de EWTN España (la mayor red religiosa de medios de comunicación del mundo. Fundada en 1981 por la Madre Angélica se emite en más de 30 idiomas\, se ve diariamente en más de 320 millones de hogares y en más de 140 países). Profesionalmente es Senior Advisor global de la consultora estratégica Roland Berger y de algunas de las mayores firmas mundiales de Private Equity así como Consejero de varias compañías multinacionales de tecnología y consumo basadas en Europa y América. \nFue Presidente Internacional de IRi Worldwide (Compañía multinacional norteamericana líder en Tecnología\, "Big Data" y Analítica); Chief Commercial Officer y miembro del Consejo Ejecutivo del Grupo Carrefour (donde era responsable las funciones comerciales y de la Innovación\, e-Commerce\, Digital así como del mayor negocio de Marca Propia del mundo); Vicepresidente y Officer en Procter & Gamble (donde dirigió el negocio global de Braun así como otros de los mayores negocios mundiales de esa multinacional durante más de dos décadas). Elegido uno de los "Top 100 Global Board Candidate" por el Financial Times (Agenda Magazine); uno de los "Top 10" líderes en Israel; "Mejor empresario del año"… ha recibido otros muchos galardones internacionales. \nCartel:
URL:https://historico.ateneovalencia.es/evento/existe-dios-la-ciencia-demuestra-que-si/
LOCATION:Teatro Ateneo
CATEGORIES:Ciclo de Conferencias
ATTACH;FMTTYPE=image/jpeg:https://historico.ateneovalencia.es/wp-content/uploads/2024/07/20241021-Existencia-de-dios.jpg
END:VEVENT
END:VCALENDAR