BEGIN:VCALENDAR
VERSION:2.0
PRODID:-//Ateneo Mercantil de Valencia - ECPv6.0.4//NONSGML v1.0//EN
CALSCALE:GREGORIAN
METHOD:PUBLISH
X-WR-CALNAME:Ateneo Mercantil de Valencia
X-ORIGINAL-URL:https://historico.ateneovalencia.es
X-WR-CALDESC:Eventos para Ateneo Mercantil de Valencia
REFRESH-INTERVAL;VALUE=DURATION:PT1H
X-Robots-Tag:noindex
X-PUBLISHED-TTL:PT1H
BEGIN:VTIMEZONE
TZID:Europe/Madrid
BEGIN:DAYLIGHT
TZOFFSETFROM:+0100
TZOFFSETTO:+0200
TZNAME:CEST
DTSTART:20240331T010000
END:DAYLIGHT
BEGIN:STANDARD
TZOFFSETFROM:+0200
TZOFFSETTO:+0100
TZNAME:CET
DTSTART:20241027T010000
END:STANDARD
END:VTIMEZONE
BEGIN:VEVENT
DTSTART;TZID=Europe/Madrid:20240930T190000
DTEND;TZID=Europe/Madrid:20240930T203000
DTSTAMP:20260421T221642
CREATED:20240705T101510Z
LAST-MODIFIED:20240923T114435Z
UID:80742-1727722800-1727728200@historico.ateneovalencia.es
SUMMARY:Conjunto Histórico de San Juan del Hospital de Valencia
DESCRIPTION:El Conjunto Histórico de San Juan es uno de los pocos complejos hospitalarios existentes en Europa que conserva su trazado original del siglo XIII y su aspecto medieval. La iglesia fue construida en un tiempo de transición del románico al gótico\, y de lo islámico a lo cristiano en Valencia. \nEnlace para el Online: https://youtu.be/CmXIfD4PXl0\nPodemos apreciar  el estilo románico original en sus puertas laterales. La del patio norte es particularmente importante para identificar la iglesia como la primera edificada tras la conquista. También son propios del románico los robustos contrafuertes\, los escasos vanos y aperturas en las paredes y la altura baja de la nave. \n\n\n\n\n\n\n\nLa iglesia posee marcadas influencias árabes en la planta rectangular\, de nave única\, propia del mudéjar\, con plementería de ladrillo alineado y falcado sólidamente para cubrir el presbiterio. Antes de 1316 se llevó a cabo una ampliación de la iglesia\, que ganó en altura y longitud. Esta ampliación siguió el estilo gótico cisterciense\, muy propio del ascetismo de la Orden en sus comienzos. Y una capilla neoclásica. \nTítulo: Conjunto Histórico de San Juan del Hospital \nConferenciante: Dra. Elena Salvador García. Doctora Arquitecta. Gestora cultural del del Conjunto de San Juan del Hospital. \nDía: Lunes\, 30 de septiembre de 2024 \nHora: 19 horas \nLugar: Salón Sorolla \nEntrada libre y gratuita hasta completar aforo. \nCurrículum de Elena Salvador García:\nElena Salvador García es Doctora arquitecta en HBIM para el uso público del patrimonio. Máster en conservación del patrimonio arquitectónico en la especialidad de gestión. Desde septiembre de 2020 hasta la actualidad es Gestora Cultural del Conjunto Histórico de San Juan del Hospital de Valencia. \nSus actuales intereses laborales se centran en dos aspectos fundamentales: HBIM como eficiente gestor de la conservación del patrimonio y la gestión eficaz del uso público del patrimonio arquitectónico. Dispone de una variada y complementaria trayectoria laboral que engloba su faceta como profesional de la conservación del patrimonio arquitectónico en empresa privada\, la de investigadora en Instituto Universitario y la de docente HBIM en Posgrado Universitario. \nCartel:
URL:https://historico.ateneovalencia.es/evento/conjunto-historico-de-san-juan-del-hospital-de-valencia/
LOCATION:Salón Sorolla - Ateneo Mercantil de Valencia\, Plaza del Ayuntamiento 18\, Valencia\, Valencia\, 46002\, España
CATEGORIES:Ciclo Edificios emblemáticos de Valencia
ATTACH;FMTTYPE=image/jpeg:https://historico.ateneovalencia.es/wp-content/uploads/2024/07/20240930-San-Juan-del-Hospital-1.jpg
END:VEVENT
END:VCALENDAR