BEGIN:VCALENDAR
VERSION:2.0
PRODID:-//Ateneo Mercantil de Valencia - ECPv6.0.4//NONSGML v1.0//EN
CALSCALE:GREGORIAN
METHOD:PUBLISH
X-ORIGINAL-URL:https://historico.ateneovalencia.es
X-WR-CALDESC:Eventos para Ateneo Mercantil de Valencia
REFRESH-INTERVAL;VALUE=DURATION:PT1H
X-Robots-Tag:noindex
X-PUBLISHED-TTL:PT1H
BEGIN:VTIMEZONE
TZID:Europe/Madrid
BEGIN:DAYLIGHT
TZOFFSETFROM:+0100
TZOFFSETTO:+0200
TZNAME:CEST
DTSTART:20240331T010000
END:DAYLIGHT
BEGIN:STANDARD
TZOFFSETFROM:+0200
TZOFFSETTO:+0100
TZNAME:CET
DTSTART:20241027T010000
END:STANDARD
END:VTIMEZONE
BEGIN:VEVENT
DTSTART;TZID=Europe/Madrid:20240712T193000
DTEND;TZID=Europe/Madrid:20240712T210000
DTSTAMP:20260424T154357
CREATED:20240628T083708Z
LAST-MODIFIED:20240628T083940Z
UID:80679-1720812600-1720818000@historico.ateneovalencia.es
SUMMARY:"Salvando a la Nacra: Proyecto europeo LIFE Pinnarca" | Documental y coloquio
DESCRIPTION:El Ateneo Mercantil de Valencia\, la Federación de Actividades Subacuáticas de la Comunidad Valenciana y el Instituto de Investigación de Medio Ambiente y Ciencia Marina de la Universidad Católica de Valencia (IMEDMAR-UCV) organizan una charla-coloquio "Salvando a la Nacra" y el visionado del documental sobre la nacra LIFE Pinnarca: salvando una especie marina\, el próximo viernes 12 de julio a las 19.30 horas en el Salón Sorolla del Ateneo Mercantil de Valencia (Plaza del Ayuntamiento\, 18\, Valencia). El conferenciante será D. Jose Tena Medialdea\, director del IMEDMAR-UCV. Instituto de Investigación\, Medio Ambiente y Ciencia Marina. \nEste evento tiene un aforo limitado y por eso si quieres asistir a la charla-coloquio y al visionado del documental tienes que darte de alta en el siguiente enlace:\nPincha aquí para apuntarte y asistir al evento\nVisionado de un documental de 30 minutos\nEl documental nace del proyecto europeo LIFE Pinnarca\, liderado por el IMEDMAR-UCV\, que tiene como objetivo dar a conocer la realidad que puede suponer la desaparición de este emblemático bivalvo\, endémico del Mediterráneo y segundo más grande del mundo. De hecho\, el documental es uno de los resultados científicos del proyecto\, en el que participan distintas instituciones nacionales e internacionales como el CSIC\, universidades de Italia\, Francia y Grecia y ya se está introduciendo también en Montenegro\, Croacia\, Egipto o Túnez. \nLa dirección de la cinta corre a cargo del prestigioso realizador submarino Sebastián Hernandis\, quien desde 1985 lleva produciendo documentales de naturaleza en el medio marino como Arterias de la Tierra\, Bubbles\, Mediterráneo Sub o Mares y Océanos\, emitidos en cadenas públicas españolas y valencianas. Además\, cuenta con rodajes en cine como Lo imposible o el largometraje Arrecifes: Oasis de vida\, estrenado en cines en 2015 y producido por Bluscreen\, con la dirección y asesoramiento científico de IMEDMAR-UCV. \nEl documental "nos muestra los principales aspectos del proyecto\, incluyendo avances y descubrimientos recientes\, así como el trabajo que hay detrás del mismo\, recorriendo la situación de la nacra en todo el Mediterráneo de la mano de los socios de la iniciativa en Francia\, Grecia\, Italia y España\, que iniciaron acciones de recuperación desde que en 2016 se iniciara la mortalidad masiva de ejemplares de nacra"\, explica José Tena\, director de IMEDMAR-UCV. \nEl director del proyecto\, José Rafael García March\, apunta que "el filme\, de 30 minutos de duración\, invita a reflexionar sobre la importancia de la conservación de las especies y ecosistemas marinos a través de imágenes excepcionales captadas con la cámara de Hernandis". \nTítulo: Salvando a la Nacra: Proyecto europeo LIFE Pinnarca \nConferenciante: D. Jose Tena Medialdea. Director del IMEDMAR-UCV. \nDía: Viernes\, 12 de julio de 2024 \nHora: 19.30 horas \nLugar: Salón Sorolla \nEntrada libre (previa inscripción) y gratuita hasta completar aforo. \nCartel:
URL:https://historico.ateneovalencia.es/evento/salvando-a-la-nacra-proyecto-europeo-life-pinnarca-documental-y-coloquio/
LOCATION:Valencia
CATEGORIES:Ciclo de Conferencias
ATTACH;FMTTYPE=image/jpeg:https://historico.ateneovalencia.es/wp-content/uploads/2024/06/20240712-Salvando-la-Nacra-1.jpg
END:VEVENT
END:VCALENDAR