BEGIN:VCALENDAR
VERSION:2.0
PRODID:-//Ateneo Mercantil de Valencia - ECPv6.0.4//NONSGML v1.0//EN
CALSCALE:GREGORIAN
METHOD:PUBLISH
X-WR-CALNAME:Ateneo Mercantil de Valencia
X-ORIGINAL-URL:https://historico.ateneovalencia.es
X-WR-CALDESC:Eventos para Ateneo Mercantil de Valencia
REFRESH-INTERVAL;VALUE=DURATION:PT1H
X-Robots-Tag:noindex
X-PUBLISHED-TTL:PT1H
BEGIN:VTIMEZONE
TZID:Europe/Madrid
BEGIN:DAYLIGHT
TZOFFSETFROM:+0100
TZOFFSETTO:+0200
TZNAME:CEST
DTSTART:20240331T010000
END:DAYLIGHT
BEGIN:STANDARD
TZOFFSETFROM:+0200
TZOFFSETTO:+0100
TZNAME:CET
DTSTART:20241027T010000
END:STANDARD
END:VTIMEZONE
BEGIN:VEVENT
DTSTART;TZID=Europe/Madrid:20240710T190000
DTEND;TZID=Europe/Madrid:20240710T203000
DTSTAMP:20260421T230757
CREATED:20240512T050509Z
LAST-MODIFIED:20240625T103432Z
UID:77962-1720638000-1720643400@historico.ateneovalencia.es
SUMMARY:Ciclo Grandes Enigmas de la Humanidad: Egipto Secreto. Últimos misterios alejados de las rutas turísticas
DESCRIPTION:De la mano de Luis Tobajas viajamos al país de los faraones para recorrer misterios que casi nadie conoce. Recorreremos rincones desconocidos de los templos sagrados y descubriremos los secretos y misterios de las pirámides que todavía no han sido revelados. \nEnlace para seguirla Online: https://youtu.be/BKrCB2IVAZE\nNueva conferencia del Ciclo Grandes Enigmas de la Humanidad\, que han visto millones de personas en el mundo a través de nuestro Canal de Youtube. \nTítulo: Egipto Secreto. Últimos misterios alejados de las rutas turísticas \nConferenciante: Luis Tobajas. Investigador y viajero. \nDía: Miércoles 10 de julio de 2024 \nHora: 19 horas \nLugar: Teatro Ateneo (3ª planta) \nEntrada libre y gratuita hasta completar aforo. \nCartel:
URL:https://historico.ateneovalencia.es/evento/ciclo-grandes-enigmas-de-la-humanidad-egipto-secreto-ultimos-misterios-alejados-de-las-rutas-turisticas/
LOCATION:Teatro Ateneo
CATEGORIES:Ciclo Grandes Enigmas de la Humanidad
ATTACH;FMTTYPE=image/jpeg:https://historico.ateneovalencia.es/wp-content/uploads/2024/05/20240710-Egipto-Oculto.jpg
END:VEVENT
END:VCALENDAR