BEGIN:VCALENDAR
VERSION:2.0
PRODID:-//Ateneo Mercantil de Valencia - ECPv6.0.4//NONSGML v1.0//EN
CALSCALE:GREGORIAN
METHOD:PUBLISH
X-WR-CALNAME:Ateneo Mercantil de Valencia
X-ORIGINAL-URL:https://historico.ateneovalencia.es
X-WR-CALDESC:Eventos para Ateneo Mercantil de Valencia
REFRESH-INTERVAL;VALUE=DURATION:PT1H
X-Robots-Tag:noindex
X-PUBLISHED-TTL:PT1H
BEGIN:VTIMEZONE
TZID:Europe/Madrid
BEGIN:DAYLIGHT
TZOFFSETFROM:+0100
TZOFFSETTO:+0200
TZNAME:CEST
DTSTART:20240331T010000
END:DAYLIGHT
BEGIN:STANDARD
TZOFFSETFROM:+0200
TZOFFSETTO:+0100
TZNAME:CET
DTSTART:20241027T010000
END:STANDARD
END:VTIMEZONE
BEGIN:VEVENT
DTSTART;TZID=Europe/Madrid:20240709T190000
DTEND;TZID=Europe/Madrid:20240709T203000
DTSTAMP:20260424T094529
CREATED:20240627T115720Z
LAST-MODIFIED:20240705T111232Z
UID:80668-1720551600-1720557000@historico.ateneovalencia.es
SUMMARY:Sorolla y su desconocido mundo
DESCRIPTION:En Joaquín Sorolla hay que destacar que un mundo desconocido se oculta en su vida cotidiana. El pintor valenciano es uno de los grandes artistas contemporáneos\, todo ello\, debido a sus cualidades creativas. \nEnlace para el Online: https://youtu.be/uoxjof1M4S8\nPor otra parte\, hay que significar que en el pasado y en la actualidad han existido numerosos pintores que también han sido poseedores de estas cualidades pero\, no alcanzaron un desarrollo madurativo en el arte de la pintura. Esto nos lleva a investigar sobre que aspectos de su vida cotidiana le llevaron a permitir la plena madurez como creador y que su prestigio haya llegado hasta nuestros días. \nUn interrogante se nos plantea ¿podría un pintor en la actualidad utilizando los resortes menos visibles de la vida cotidiana de Sorolla llegar a alcanzar la plenitud artística? La respuesta sería "que sería posible". \nTítulo: Sorolla y su desconocido mundo \nConferenciante: Vicente Gomar Escrivá \nDía: Martes\, 9 de julio de 2024 \nHora: 19 horas \nLugar: Teatro Ateneo \nEntrada libre y gratuita hasta completar aforo. \nCartel:
URL:https://historico.ateneovalencia.es/evento/sorolla-y-su-desconocido-mundo/
LOCATION:Teatro Ateneo
CATEGORIES:Ciclo de Conferencias
ATTACH;FMTTYPE=image/jpeg:https://historico.ateneovalencia.es/wp-content/uploads/2024/06/20240709-Sorolla-y-Desconocido-Mundo.jpg
END:VEVENT
END:VCALENDAR