BEGIN:VCALENDAR
VERSION:2.0
PRODID:-//Ateneo Mercantil de Valencia - ECPv6.0.4//NONSGML v1.0//EN
CALSCALE:GREGORIAN
METHOD:PUBLISH
X-WR-CALNAME:Ateneo Mercantil de Valencia
X-ORIGINAL-URL:https://historico.ateneovalencia.es
X-WR-CALDESC:Eventos para Ateneo Mercantil de Valencia
REFRESH-INTERVAL;VALUE=DURATION:PT1H
X-Robots-Tag:noindex
X-PUBLISHED-TTL:PT1H
BEGIN:VTIMEZONE
TZID:Europe/Madrid
BEGIN:DAYLIGHT
TZOFFSETFROM:+0100
TZOFFSETTO:+0200
TZNAME:CEST
DTSTART:20240331T010000
END:DAYLIGHT
BEGIN:STANDARD
TZOFFSETFROM:+0200
TZOFFSETTO:+0100
TZNAME:CET
DTSTART:20241027T010000
END:STANDARD
END:VTIMEZONE
BEGIN:VEVENT
DTSTART;TZID=Europe/Madrid:20240708T190000
DTEND;TZID=Europe/Madrid:20240708T203000
DTSTAMP:20260421T230010
CREATED:20240625T090124Z
LAST-MODIFIED:20240701T111203Z
UID:80623-1720465200-1720470600@historico.ateneovalencia.es
SUMMARY:El Oráculo de Delfos. Y otros oráculos en la Antigüedad Griega
DESCRIPTION:Desde siempre el ser humano ha tratado de conocer su futuro. Los primeros hombres ya acudían a los oráculos con la idea de saber más cosas y dejaban las respuestas a los dioses. Los oráculos eran lugares de peregrinación\, hoy son ruinas\, lugares abandonados\, en su mayoría\, y poco queda ya de aquellos tiempos en los que los humanos creían que su destino dependía de ellos. \nEnlace para el Online: https://youtu.be/JZ7yjky4CX8\nEl Oráculo de Delfos fue el más famoso. Situado en el valle de Pleisto\, junto al monte Parnaso\, cerca de lo que es hoy la villa de Delfos en Fócida. Según recogen las distintas fuentes\, el oráculo se celebraba el día 7 del mes que coincidía con la fecha del nacimiento de Apolo. En invierno no había oráculo. Esos días de consulta\, la pitonisa debía purificarse en la fuente Castalia y realizaba ofrendas a Apolo. \nNo hay unanimidad sobre cómo se inspiraba la pitonisa para sus consultas. Según parece\, por una de las grietas de la roca donde se encontraba sentada la pitonisa emanaban unos gases que la hacían entrar en trance y profetizar. Aquellos gases eran etano\, metano y etileno\, pues debajo del templo de Apolo se cruzan dos fallas geológicas\, que la hacían entrar en trance. \nPero hubo más Oráculos: El Oráculo de Amón en Siwa\, al oeste de Egipto. El Templo de Upsala\, cerca de la moderna Upsala\, ciudad a unos 70 kilómetros de Estocolmo. El Oráculo de Nechung\, actualmente\, en el monasterio en Dharamsala (India)\, tras el exilio. Antes\, en el Tïbet. Y el Oráculo de Dodona\, al pie del monte Tomaro\, en Epiro. \nTítulo: El Oráculo de Delfos. Y otros oráculos en la Antigüedad Griega  \nConferenciante: Alejandro Noguera \nDía: Lunes 8 de julio de 2024 \nHora: 19 horas \nLugar: Teatro Ateneo \nEntrada libre y gratuita hasta completar aforo. \nCartel:
URL:https://historico.ateneovalencia.es/evento/el-oraculo-de-delfos-y-otros-oraculos-en-la-antiguedad-griega/
LOCATION:Teatro Ateneo
CATEGORIES:Ciclo Grandes Enigmas de la Humanidad
ATTACH;FMTTYPE=image/jpeg:https://historico.ateneovalencia.es/wp-content/uploads/2024/06/20240708-El-Oraculo-de-Delfos.jpg
END:VEVENT
END:VCALENDAR