BEGIN:VCALENDAR
VERSION:2.0
PRODID:-//Ateneo Mercantil de Valencia - ECPv6.0.4//NONSGML v1.0//EN
CALSCALE:GREGORIAN
METHOD:PUBLISH
X-ORIGINAL-URL:https://historico.ateneovalencia.es
X-WR-CALDESC:Eventos para Ateneo Mercantil de Valencia
REFRESH-INTERVAL;VALUE=DURATION:PT1H
X-Robots-Tag:noindex
X-PUBLISHED-TTL:PT1H
BEGIN:VTIMEZONE
TZID:Europe/Madrid
BEGIN:DAYLIGHT
TZOFFSETFROM:+0100
TZOFFSETTO:+0200
TZNAME:CEST
DTSTART:20240331T010000
END:DAYLIGHT
BEGIN:STANDARD
TZOFFSETFROM:+0200
TZOFFSETTO:+0100
TZNAME:CET
DTSTART:20241027T010000
END:STANDARD
END:VTIMEZONE
BEGIN:VEVENT
DTSTART;TZID=Europe/Madrid:20240515T190000
DTEND;TZID=Europe/Madrid:20240515T203000
DTSTAMP:20260424T063127
CREATED:20240415T113408Z
LAST-MODIFIED:20240430T114638Z
UID:77642-1715799600-1715805000@historico.ateneovalencia.es
SUMMARY:Ciclo Grandes Enigmas de la Humanidad: La muerte y sus guías\, los Psicopompos
DESCRIPTION:¿Por qué en Occidente vivimos de espaldas a la muerte? ¿Qué visión tenían los filósofos de la Antigua Grecia sobre "el paso a la otra orilla"? ¿Cómo concebían "la nueva existencia" en el Antiguo Egipto? ¿Cuáles han sido los nombres que han adoptado los "ángeles de la muerte" a lo largo de la historia? ¿Quiénes son las Moiras? ¿Por qué celebramos en el mes de noviembre el culto a los difuntos? ¿Cómo surgió el concepto del juicio a los muertos? \n¿Qué sabe el chaman sobre la trascendencia? ¿Qué formas adoptan los guías de la muerte? ¿Qué aporta el cine\, la literatura y la cultura popular en la interpretación del final de la vida? ¿Cómo se ha representado en el arte? ¿Qué ocurre justo antes de morir? ¿Qué explicaciones ha ofrecido la ciencia sobre el gran tránsito? ¿Por qué se compara al sueño con la muerte? ¿Cómo ayudar al moribundo a trascender? \nEnlace para el Online: https://youtu.be/3ECIxzjkuxQ\nBegoña Beneito\, en esta rigurosa y exhaustiva investigación\, responderá a estas y muchas otras preguntas y desvelará sin tabús algunas de las grandes incógnitas que siguen hoy inquietando al ser humano\, como la figura del psicopompo\, ente que custodia al moribundo en su tránsito al más allá: un concepto universal que aparece en infinidad de culturas desde la noche de los tiempos\, y al que presta especial atención en esta conferencia que está basada en su novela "El Gran Libro de la Muerte". \nLa obra magna sobre el mayor misterio de la historia de la humanidad: el final de la vida. Un profundo\, transversal y apasionante estudio de la cultura de la muerte desde la mirada de la filosofía\, la religión comparada\, la historia\, la metafísica\, el arte\, el espiritismo o la literatura. Una conferencia impactante y reveladora que\, a través del conocimiento\, nos conducirá a una trascendente reflexión sobre la vida y nos ayudará a perder el miedo a nuestro temor más atávico: la muerte. \nTítulo: La muerte y sus guías\, los Psicopompos \nConferenciante: Begoña Beneito Esquinas. Investigadora\, divulgadora\, escritora. Autora de la novela "El Gran Libro de la Muerte" \nDía: Miércoles\, 15 de mayo de 2024 \nHora: 19 horas \nLugar: Teatro Ateneo \nEntrada libre y gratuita hasta completar aforo. \nCurrículum abreviado de Begoña Beneito:\nBegoña Beneito Esquinas es investigadora\, divulgadora\, escritora\, directora y presentadora del programa El Mundo de las Trece Lunas\, emitido desde 2006 en Radio Alcoy Cadena Ser. Es redactora de la revista digital plurinacional de habla hispana Entre Letras y también colabora en la publicación Mandala Literaria\, así como en diferentes medios de comunicación local\, prensa escrita\, televisión y radio. \nAdemás\, es presentadora de eventos como las Conexiones con otras realidades en 2009\, las verdades reveladas en 2010\, las Jornadas para una nueva medicina en 2011\, el Congreso Internacional sobre los orígenes ocultos de la humanidad I\, II en 2012 y 2014). Ha participado en el libro «Cuando esto pase?»\, de la editorial Guante Blanco y dirige su página web: luhema.blogspot.com. En ella comparte artículos relacionados con la consciencia\, la psicología humanística\, lo sagrado femenino y el conocimiento de sí mismo. \nCartel:
URL:https://historico.ateneovalencia.es/evento/ciclo-grandes-enigmas-de-la-humanidad-la-muerte-y-sus-guias-los-psicopompos/
LOCATION:Teatro Ateneo
CATEGORIES:Ciclo Grandes Enigmas de la Humanidad
ATTACH;FMTTYPE=image/jpeg:https://historico.ateneovalencia.es/wp-content/uploads/2024/04/20240515-Gran-Libro-de-la-Muerte.jpg
END:VEVENT
END:VCALENDAR