BEGIN:VCALENDAR
VERSION:2.0
PRODID:-//Ateneo Mercantil de Valencia - ECPv6.0.4//NONSGML v1.0//EN
CALSCALE:GREGORIAN
METHOD:PUBLISH
X-WR-CALNAME:Ateneo Mercantil de Valencia
X-ORIGINAL-URL:https://historico.ateneovalencia.es
X-WR-CALDESC:Eventos para Ateneo Mercantil de Valencia
REFRESH-INTERVAL;VALUE=DURATION:PT1H
X-Robots-Tag:noindex
X-PUBLISHED-TTL:PT1H
BEGIN:VTIMEZONE
TZID:Europe/Madrid
BEGIN:DAYLIGHT
TZOFFSETFROM:+0100
TZOFFSETTO:+0200
TZNAME:CEST
DTSTART:20240331T010000
END:DAYLIGHT
BEGIN:STANDARD
TZOFFSETFROM:+0200
TZOFFSETTO:+0100
TZNAME:CET
DTSTART:20241027T010000
END:STANDARD
END:VTIMEZONE
BEGIN:VEVENT
DTSTART;TZID=Europe/Madrid:20240508T183000
DTEND;TZID=Europe/Madrid:20240508T200000
DTSTAMP:20260421T182639
CREATED:20240321T173215Z
LAST-MODIFIED:20240506T075107Z
UID:76940-1715193000-1715198400@historico.ateneovalencia.es
SUMMARY:La Guerra de Troya: El canto de cisne de dos civilizaciones
DESCRIPTION:Anatolios y griegos se enfrentaron durante 250 años por el control de las rutas comerciales y de los recursos estratégicos. Agotados y sumidos en profunda crisis\, jugaron su última carta en Troya. Su ruina fue su inmortalidad. Una conferencia que llega bajo el título "La Guerra de Troya: el canto de cisno de dos civilizaciones" y el conferenciante será el médico y escritor\, Josep Asensi. \nEnlace para el Online: https://youtu.be/6ZYBS_pLc1w\nSegún la epopeya griega La Ilíada\, el príncipe Paris de Troya secuestró a su enamorada Helena de Grecia\, la mujer más bella del mundo\, y Melenao de Esparta\, su marido\, convocó a los griegos\, que emprendieron la guerra contra los troyanos. Esta guerra fue el encuentro de muchos de los grandes héroes de la antigüedad\, como Aquiles\, Héctor o Áyax. \nTítulo: La Guerra de Troya: El canto de cisne de dos civilizaciones \nConferenciante: Josep Asensi. Médico y escritor. \nDía: Miércoles\, 8 de mayo de 2024 \nHora: 18.30 horas \nLugar: Teatro Ateneo \nEntrada libre y gratuita hasta completar aforo. \nCartel:
URL:https://historico.ateneovalencia.es/evento/la-guerra-de-troya-el-canto-de-cisne-de-dos-civilizaciones/
LOCATION:Teatro Ateneo
CATEGORIES:Ciclo de Conferencias
ATTACH;FMTTYPE=image/jpeg:https://historico.ateneovalencia.es/wp-content/uploads/2024/03/20240508-GUERRA-DE-TROYA.jpg
END:VEVENT
END:VCALENDAR