BEGIN:VCALENDAR
VERSION:2.0
PRODID:-//Ateneo Mercantil de Valencia - ECPv6.0.4//NONSGML v1.0//EN
CALSCALE:GREGORIAN
METHOD:PUBLISH
X-WR-CALNAME:Ateneo Mercantil de Valencia
X-ORIGINAL-URL:https://historico.ateneovalencia.es
X-WR-CALDESC:Eventos para Ateneo Mercantil de Valencia
REFRESH-INTERVAL;VALUE=DURATION:PT1H
X-Robots-Tag:noindex
X-PUBLISHED-TTL:PT1H
BEGIN:VTIMEZONE
TZID:Europe/Madrid
BEGIN:DAYLIGHT
TZOFFSETFROM:+0100
TZOFFSETTO:+0200
TZNAME:CEST
DTSTART:20240331T010000
END:DAYLIGHT
BEGIN:STANDARD
TZOFFSETFROM:+0200
TZOFFSETTO:+0100
TZNAME:CET
DTSTART:20241027T010000
END:STANDARD
END:VTIMEZONE
BEGIN:VEVENT
DTSTART;TZID=Europe/Madrid:20240507T190000
DTEND;TZID=Europe/Madrid:20240507T203000
DTSTAMP:20260421T230827
CREATED:20240322T131707Z
LAST-MODIFIED:20240418T114724Z
UID:76973-1715108400-1715113800@historico.ateneovalencia.es
SUMMARY:Arqueología de los campos de batalla
DESCRIPTION:La guerra es una de las facetas más constantes y críticas de la actividad humana. La Arqueología ha desarrollado desde hace unas décadas toda una serie de enfoques teóricos y de métodos de trabajo de campo para el estudio de los restos materiales de  la guerra\, desde la Prehistoria a la actualidad. \nEnlace para el Online: https://youtu.be/u71MEwEWYTo\nEn algunos casos\, la ‘Arqueología de los campos de batalla’ es la única fuente que tenemos para documentar acciones pasadas; en otros\, modifica en mucho las fuentes documentales\, ofreciendo nuevas e inéditas perspectivas. Por fin\, en batallas modernas que creemos ya muy bien documentadas\, aporta a menudo la visión del íntima individuo sometido a fuerzas colosales. \nTítulo: Arqueología de los campos de batalla \nConferenciante: Prof. Dr. Fernando Quesada Sanz. Catedrático de Arqueología\, Universidad Autónoma de Madrid. \nDía: Martes\, 7 de mayo de 2024 \nHora: 19horas \nConferencia Online y gratuita por el Canal de Youtube del Ateneo \nCurrículum abreviado de Fernando Quesada Sanz:\nCatedrático de Arqueología en la Universidad Autónoma de Madrid. Director de su Departamento de Prehistoria y Arqueología (2012 y 2020); además de Subdirector entre  2010 y 2012 y otros cargos de gestión. \nEs licenciado por la UAM (1985) y Premio Extraordinario de Licenciatura (1988) en Arqueología\, y también Licenciado (UAM 1989I y Premio Extraordinario en Historia Antigua y Medieval (1991). Es además Premio Extraordinario de Doctorado (1994). \nSus principales líneas de investigación son el análisis de las sociedades del Mediterráneo a través de los conflictos bélicos\, y el de la Cultura Ibérica. Es Patrono de la Fundación Pastor de Estudios Clásicos y Miembro Correspondiente del Instituto Arqueológico Alemán. \nHa recibido distintos premios y distinciones\, entre ellos la Medalla de Honor de la Asociación Española de Amigos de la Arqueología\, el premio Vaccea de la Universidad de Valladolid a la Investigación y Divulgación en Arqueología\, el Premio Hislibris al Mejor Ensayo Histórico en 2010\, Mención especial de los Premios Egabrenses del Año 2015 por el trabajo patrimonial en el ‘Cerro de la Merced’ (Cabra\, Córdoba)\, Premio Honorífico Hiuslibris 2022 por una trayectoria\,  Insignia de Oro de la Asociación de Museos Locales de Córdoba (2023) etc. \nHa dirigido una decena de Tesis Doctorales\, y es Director del Grupo de Investigación consolidado Polemos de la UAM sobre Arqueología e Historia de la Guerra Antigua. \nDe  sus más de quinientas publicaciones académicas y divulgativas\, destacan las dedicadas al estudio de la guerra y el armamento  en la Antigüedad y a la Cultura Ibérica en Andalucía\, donde excava desde 1985. \nCartel:
URL:https://historico.ateneovalencia.es/evento/arqueologia-de-los-campos-de-batalla/
LOCATION:On line
CATEGORIES:Ciclo de Conferencias
ATTACH;FMTTYPE=image/jpeg:https://historico.ateneovalencia.es/wp-content/uploads/2024/03/20240507-Arqueologia-en-Campo-de-Batalla.jpg
END:VEVENT
END:VCALENDAR