BEGIN:VCALENDAR
VERSION:2.0
PRODID:-//Ateneo Mercantil de Valencia - ECPv6.0.4//NONSGML v1.0//EN
CALSCALE:GREGORIAN
METHOD:PUBLISH
X-WR-CALNAME:Ateneo Mercantil de Valencia
X-ORIGINAL-URL:https://historico.ateneovalencia.es
X-WR-CALDESC:Eventos para Ateneo Mercantil de Valencia
REFRESH-INTERVAL;VALUE=DURATION:PT1H
X-Robots-Tag:noindex
X-PUBLISHED-TTL:PT1H
BEGIN:VTIMEZONE
TZID:Europe/Madrid
BEGIN:DAYLIGHT
TZOFFSETFROM:+0100
TZOFFSETTO:+0200
TZNAME:CEST
DTSTART:20240331T010000
END:DAYLIGHT
BEGIN:STANDARD
TZOFFSETFROM:+0200
TZOFFSETTO:+0100
TZNAME:CET
DTSTART:20241027T010000
END:STANDARD
END:VTIMEZONE
BEGIN:VEVENT
DTSTART;TZID=Europe/Madrid:20240506T190000
DTEND;TZID=Europe/Madrid:20240506T203000
DTSTAMP:20260421T165607
CREATED:20240322T111100Z
LAST-MODIFIED:20240417T095428Z
UID:76965-1715022000-1715027400@historico.ateneovalencia.es
SUMMARY:La ciudades romanas: el ejemplo de Tarraco
DESCRIPTION:La sociedad romana fue durante la mayor parte de su existencia eminentemente urbana. Las ciudades eran los centros neurálgicos social y económicamente… Ese mundo urbano es lo que todos nosotros conocemos hoy. Los romanos fundaron ciudades\, pero también dejaron en pie muchas poblaciones preexistentes a su conquista. \nEnlace para el Online: https://youtu.be/hVK6xmoiIRY\nNos centraremos en el caso de la gran Tarraco\, la actual Tarragona. Esta antigua ciudad romana se convirtió en una de las más importantes ciudades de Hispania durante el Impero Romano. Su conjunto arqueológico fue declarado en el año 2000 Patrimonio de la Humanidad. Además\, es uno de los asentamientos romanos más antiguos de la Península Ibérica. El Foro Romano\, el Circo\, el Anfiteatro con sus vistas al mar y la muralla romana. La antigua Tarraco\, fundada por los romanos\, conserva gran parte de su esplendor. \nTítulo: La ciudades romanas: el ejemplo de Tarraco \nConferenciante: Cristina Aldana. \nDía: Lunes\, 6 de mayo de 2024 \nHora: 19 horas \nLugar: Teatro Ateneo \nEntrada libre y gratuita hasta completar aforo. \nCartel:
URL:https://historico.ateneovalencia.es/evento/la-ciudades-romanas-el-ejemplo-de-tarraco/
LOCATION:Teatro Ateneo
CATEGORIES:Ciclo de Conferencias
ATTACH;FMTTYPE=image/jpeg:https://historico.ateneovalencia.es/wp-content/uploads/2024/03/20240506-Ciudades-Romanas-Tarraco.jpg
END:VEVENT
END:VCALENDAR