BEGIN:VCALENDAR
VERSION:2.0
PRODID:-//Ateneo Mercantil de Valencia - ECPv6.0.4//NONSGML v1.0//EN
CALSCALE:GREGORIAN
METHOD:PUBLISH
X-ORIGINAL-URL:https://historico.ateneovalencia.es
X-WR-CALDESC:Eventos para Ateneo Mercantil de Valencia
REFRESH-INTERVAL;VALUE=DURATION:PT1H
X-Robots-Tag:noindex
X-PUBLISHED-TTL:PT1H
BEGIN:VTIMEZONE
TZID:Europe/Madrid
BEGIN:DAYLIGHT
TZOFFSETFROM:+0100
TZOFFSETTO:+0200
TZNAME:CEST
DTSTART:20240331T010000
END:DAYLIGHT
BEGIN:STANDARD
TZOFFSETFROM:+0200
TZOFFSETTO:+0100
TZNAME:CET
DTSTART:20241027T010000
END:STANDARD
END:VTIMEZONE
BEGIN:VEVENT
DTSTART;TZID=Europe/Madrid:20240430T173000
DTEND;TZID=Europe/Madrid:20240430T190000
DTSTAMP:20260422T020617
CREATED:20240206T085418Z
LAST-MODIFIED:20240430T071120Z
UID:76732-1714498200-1714503600@historico.ateneovalencia.es
SUMMARY:Grandes Maestros de la Pintura Universal: Siglo XVIII | Sesión 4
DESCRIPTION:El Ateneo Mercantil de Valencia prosigue con sus conferencias sobre arte y en esta ocasión se pone en marcha un ciclo sobre los grandes maestros de la Pintura Universal. En esta cuarta sesión nos centraremos en el siglo XVIII. De nuevo D. Amando García nos ilustrará desgranando los mejores pintores de la historia y lo hará con su magnífica forma de entender el arte. \nEnlace para el Online: https://youtu.be/1Y-_CV211gY\nUna conferencia en la que hablarán sobre algunos de los artistas más destacados\, a los que se les considera grandes maestros e incluso a algunos\, se les tratan como los padres de la pintura ya que\, con la maestría de sus trabajos y uso de la técnica\, influyeron en el estilo y obra de gran cantidad de pintores a lo largo de los siglos. \nBásicamente\, el arte de siglo XVIII es el resultado de las ideas de La Ilustración\, la cual afectaría todos los órdenes de la vida y\, además\, de la ruptura que se daría con el arte cortesano. Este complejo movimiento se inicia como una rebelión del espíritu contra toda forma de religión sobrenatural y contra la Iglesia y a favor de la religión de la naturaleza y de la moralidad práctica. Existe una gran división que escindió la forma de entender la pintura entre quienes defendían una pintura de “género” (que trata temas contemporáneos y representa a personajes anónimos y acciones cotidianas) y quienes abogaron por una pintura “histórica”. Hay grandes autores de este periodo como Boucher\, David y Francisco de Goya\, entre otros muchos. \nTítulo: Grandes Maestros de la Pintura Universal: Siglo XVIII \nConferenciante: D. Amando García \nDía: Martes\, 30 de abril de 2024 \nHora: 17.30 horas \nConferencia Online \nCartel:
URL:https://historico.ateneovalencia.es/evento/grandes-maestros-de-la-pintura-universal-siglo-xviii-sesion-4/
LOCATION:On line
CATEGORIES:Ciclo Grandes Maestros de la Pintura
ATTACH;FMTTYPE=image/jpeg:https://historico.ateneovalencia.es/wp-content/uploads/2024/02/20240430-Grandes-Maestros-sXVIII-Amando.jpg
END:VEVENT
END:VCALENDAR