BEGIN:VCALENDAR
VERSION:2.0
PRODID:-//Ateneo Mercantil de Valencia - ECPv6.0.4//NONSGML v1.0//EN
CALSCALE:GREGORIAN
METHOD:PUBLISH
X-WR-CALNAME:Ateneo Mercantil de Valencia
X-ORIGINAL-URL:https://historico.ateneovalencia.es
X-WR-CALDESC:Eventos para Ateneo Mercantil de Valencia
REFRESH-INTERVAL;VALUE=DURATION:PT1H
X-Robots-Tag:noindex
X-PUBLISHED-TTL:PT1H
BEGIN:VTIMEZONE
TZID:Europe/Madrid
BEGIN:DAYLIGHT
TZOFFSETFROM:+0100
TZOFFSETTO:+0200
TZNAME:CEST
DTSTART:20240331T010000
END:DAYLIGHT
BEGIN:STANDARD
TZOFFSETFROM:+0200
TZOFFSETTO:+0100
TZNAME:CET
DTSTART:20241027T010000
END:STANDARD
END:VTIMEZONE
BEGIN:VEVENT
DTSTART;TZID=Europe/Madrid:20240423T190000
DTEND;TZID=Europe/Madrid:20240423T203000
DTSTAMP:20260421T181127
CREATED:20240215T125846Z
LAST-MODIFIED:20240405T104221Z
UID:76818-1713898800-1713904200@historico.ateneovalencia.es
SUMMARY:Las armas perdidas de los Guerreros de Riace
DESCRIPTION:En esta conferencia presentaremos de manera ágil dos de las principales obras de la escultura griega en bronce\, los Guerreros de Riace\, los avatares sobre su hallazgo\, y los problemas de conservación desprovistos de sus armas\, hoy perdidas. Esto ofrece el contexto para discutir las distintas opciones propuestas\, cada una con implicaciones históricas significativas. \nEnlace para el Online: https://youtu.be/U9uX8bBbibo\nPero es su reconstrucción reciente la que más ha acentuado este debate entre la comunidad científica. Con lo que\, además de hablar de arte clásico en palabras mayores\, presentaremos un problema actual de la investigación en el que se evalúan los riesgos de la reconstrucción y la manera cómo esta condiciona al público no especializado. \nTítulo: Las armas perdidas de los Guerreros de Riace \nConferenciante: Prof. Dr. Raimon Graells i Fabregat. Profesor e Investigador del Ramón y Cajal. Dpto. Prehistoria\, Arqueología e Historia Antigua. \nDía: Martes\, 23 de abril de 2024 \nHora: 19 horas \nLugar: Conferencia ONLINE \nCartel:\n \n 
URL:https://historico.ateneovalencia.es/evento/las-armas-perdidas-de-los-guerreros-de-riace/
LOCATION:On line
CATEGORIES:Ciclo de Conferencias
ATTACH;FMTTYPE=image/jpeg:https://historico.ateneovalencia.es/wp-content/uploads/2024/02/20240423-Guerreros-de-Riace.jpg
END:VEVENT
END:VCALENDAR