BEGIN:VCALENDAR
VERSION:2.0
PRODID:-//Ateneo Mercantil de Valencia - ECPv6.0.4//NONSGML v1.0//EN
CALSCALE:GREGORIAN
METHOD:PUBLISH
X-WR-CALNAME:Ateneo Mercantil de Valencia
X-ORIGINAL-URL:https://historico.ateneovalencia.es
X-WR-CALDESC:Eventos para Ateneo Mercantil de Valencia
REFRESH-INTERVAL;VALUE=DURATION:PT1H
X-Robots-Tag:noindex
X-PUBLISHED-TTL:PT1H
BEGIN:VTIMEZONE
TZID:Europe/Madrid
BEGIN:DAYLIGHT
TZOFFSETFROM:+0100
TZOFFSETTO:+0200
TZNAME:CEST
DTSTART:20240331T010000
END:DAYLIGHT
BEGIN:STANDARD
TZOFFSETFROM:+0200
TZOFFSETTO:+0100
TZNAME:CET
DTSTART:20241027T010000
END:STANDARD
END:VTIMEZONE
BEGIN:VEVENT
DTSTART;TZID=Europe/Madrid:20240221T190000
DTEND;TZID=Europe/Madrid:20240221T203000
DTSTAMP:20260422T221905
CREATED:20240103T124957Z
LAST-MODIFIED:20240212T111648Z
UID:76254-1708542000-1708547400@historico.ateneovalencia.es
SUMMARY:Jaque al Emperador. España\, el abismo de Napoleón
DESCRIPTION:A principios del siglo XIX\, Napoleón Bonaparte intenta someter a Europa. Sus éxitos militares son tantos y tan notables que nada parece detener a sus ejércitos. En 1808 invade España. Pero lo que se presumía una invasión rápida y sencilla se convertirá en un terrible dolor de cabeza para el francés. \nEnlace para el Online: https://youtu.be/XBm_4rPE7ss\nBonaparte no contaba con que en España había hombres como José Romeu\, el héroe saguntino que fue capaz de hacer JAQUE AL EMPERADOR. \nTítulo: Jaque al Emperador. España\, el abismo de Napoleón \nConferenciante: J. R. Barat \nDía: Miércoles 21 de febrero de 2024 \nHora: 19 horas \nLugar: Teatro Ateneo \nEntrada libre y gratuita hasta completar aforo. \nCurrículum abreviado de Juan Ramón Barat:\nJuan Ramón Barat (Valencia\, 1959) obtuvo la licenciatura en Filología Clásica por la Universidad de Valencia y la de Filología Hispánica por la Universidad de La Laguna (Tenerife). Es catedrático de Lengua Castellana y Literatura. \nComo escritor\, cultiva todos los géneros literarios\, tanto para jóvenes como para adultos\, y en todos ellos ha cosechado importantes premios y reconocimientos. Dotado de una gran vitalidad cultural\, participa constantemente en actividades diversas relacionadas con la literatura: encuentros de autor\, conferencias\, charlas en clubs de lectura\, presentaciones de libros\, recitales y talleres literarios. \nCartel:\n \n 
URL:https://historico.ateneovalencia.es/evento/jaque-al-emperador-espana-el-abismo-de-napoleon/
LOCATION:Teatro Ateneo
CATEGORIES:Ciclo de Conferencias
ATTACH;FMTTYPE=image/jpeg:https://historico.ateneovalencia.es/wp-content/uploads/2024/01/20240221-Jaque-al-Emperador-Juan-Ramon-Barat.jpg
END:VEVENT
END:VCALENDAR