BEGIN:VCALENDAR
VERSION:2.0
PRODID:-//Ateneo Mercantil de Valencia - ECPv6.0.4//NONSGML v1.0//EN
CALSCALE:GREGORIAN
METHOD:PUBLISH
X-ORIGINAL-URL:https://historico.ateneovalencia.es
X-WR-CALDESC:Eventos para Ateneo Mercantil de Valencia
REFRESH-INTERVAL;VALUE=DURATION:PT1H
X-Robots-Tag:noindex
X-PUBLISHED-TTL:PT1H
BEGIN:VTIMEZONE
TZID:Europe/Madrid
BEGIN:DAYLIGHT
TZOFFSETFROM:+0100
TZOFFSETTO:+0200
TZNAME:CEST
DTSTART:20240331T010000
END:DAYLIGHT
BEGIN:STANDARD
TZOFFSETFROM:+0200
TZOFFSETTO:+0100
TZNAME:CET
DTSTART:20241027T010000
END:STANDARD
END:VTIMEZONE
BEGIN:VEVENT
DTSTART;TZID=Europe/Madrid:20240214T190000
DTEND;TZID=Europe/Madrid:20240214T203000
DTSTAMP:20260422T025705
CREATED:20231201T084922Z
LAST-MODIFIED:20240207T115507Z
UID:76077-1707937200-1707942600@historico.ateneovalencia.es
SUMMARY:Medusa: De femme fatale a icono feminista
DESCRIPTION:Desde que Atenea castigó a Medusa\, hija de Forcis y Ceto\, a petrificar con su mirada y a lucir una repugnante cabellera de serpientes\, la imagen de la Gorgona se ha ido transformando según las épocas\, los valores\, los contextos. La culpable\, la víctima\, la protectora\, la femme fatale\, la insignia del feminismo. Medusa en sus diversas versiones. Medusa\, la poliédrica. \nEnlace para el Online: https://youtu.be/kF7KOeMOkxM\nMedusa con el tiempo ha experimentado diversas facetas. Desde un monstruo horroroso\, pasó a representar la sexualidad de la mujer hasta convertirse en un ícono de los movimientos feministas. Una conferencia de Ana Martínez Gea donde el periodo clásico y el actual se unen y que no te dejará indiferente. Presenta la conferencia el escritor Santiago Posteguillo. \nTítulo: Medusa: De femme fatale a icono feminista \nConferenciante: Ana Martínez Gea. Licenciada en Filología Clásica y Periodismo. Estudiante de Historia. Profesora de latín y Griego en Secundaria. \nDía: Miércoles\, 14 de febrero de 2024 \nHora: 19 horas \nLugar: Teatro Ateneo \nEntrada libre y gratuita hasta completar aforo. \nCartel:
URL:https://historico.ateneovalencia.es/evento/medusa-de-femme-fatale-a-icono-feminista/
LOCATION:Teatro Ateneo
CATEGORIES:Ciclo de Conferencias
ATTACH;FMTTYPE=image/jpeg:https://historico.ateneovalencia.es/wp-content/uploads/2023/12/20240214-Medusa-Femme-Fatale-Icono-Feminista.jpg
END:VEVENT
END:VCALENDAR