BEGIN:VCALENDAR
VERSION:2.0
PRODID:-//Ateneo Mercantil de Valencia - ECPv6.0.4//NONSGML v1.0//EN
CALSCALE:GREGORIAN
METHOD:PUBLISH
X-ORIGINAL-URL:https://historico.ateneovalencia.es
X-WR-CALDESC:Eventos para Ateneo Mercantil de Valencia
REFRESH-INTERVAL;VALUE=DURATION:PT1H
X-Robots-Tag:noindex
X-PUBLISHED-TTL:PT1H
BEGIN:VTIMEZONE
TZID:Europe/Madrid
BEGIN:DAYLIGHT
TZOFFSETFROM:+0100
TZOFFSETTO:+0200
TZNAME:CEST
DTSTART:20240331T010000
END:DAYLIGHT
BEGIN:STANDARD
TZOFFSETFROM:+0200
TZOFFSETTO:+0100
TZNAME:CET
DTSTART:20241027T010000
END:STANDARD
END:VTIMEZONE
BEGIN:VEVENT
DTSTART;TZID=Europe/Madrid:20240213T173000
DTEND;TZID=Europe/Madrid:20240213T190000
DTSTAMP:20260421T222722
CREATED:20240127T195646Z
LAST-MODIFIED:20240207T114222Z
UID:76544-1707845400-1707850800@historico.ateneovalencia.es
SUMMARY:Grandes Maestros de la Pintura Universal: Siglo XV | Sesión 1
DESCRIPTION:El Ateneo Mercantil de Valencia prosigue con sus conferencias sobre arte y en esta ocasión se pone en marcha un ciclo sobre los grandes maestros de la Pintura Universal. En esta primera sesión nos centraremos en el siglo XV. De nuevo D. Amando García nos ilustrará desgranando los mejores pintores de la historia y lo hará con su magnífica forma de entender el arte. \nEnlace para el Online: https://youtu.be/3FYPkq9ugRE\nUna conferencia en la que hablarán sobre algunos de los artistas más destacados\, a los que se les considera grandes maestros e incluso a algunos\, se les tratan como los padres de la pintura ya que\, con la maestría de sus trabajos y uso de la técnica\, influyeron en el estilo y obra de gran cantidad de pintores a lo largo de los siglos. \nHasta la aparición del Renacimiento a finales del siglo XV\, la pintura poseía un marcadísimo carácter teocéntrico\, de tipo religioso\, cristiano. Se buscaba plasmar una belleza sensible dada por las formas\, colores\, composición\, etc.\, y otra belleza invisible dada por el simbolismo. Caben destacar artistas como: \nLas principales figuras de la primera mitad de siglo XV\, que se anticiparon el Quattrocento fueron Gentile da Fabriano\, Fra Angélico\, Pisanello\, Masolino da Panicale\, Paolo Ucello\, Andrea del Castagno\, Piero della Francesca y Fra Filippo Lippi. \nEn la segunda mitad del siglo aparece Sandro Botticelli\, junto a otros autores florentinos los hermanos Pollaiuolo\, Andrea del Verrocchio y Piero di Cosimo. También aparece\, Leonardo da Vinci\, pero al genio se le estudia dentro de la pintura del Cinquecento. \nTítulo: Grandes Maestros de la Pintura Universal: Siglo XV \nConferenciante: D. Amando García \nDía: Martes\, 13 de febrero de 2024 \nHora: 17.30 horas \nConferencia Online \nCartel:
URL:https://historico.ateneovalencia.es/evento/grandes-maestros-de-la-pintura-universal-siglo-xv-sesion-1/
LOCATION:On line
CATEGORIES:Ciclo Grandes Maestros de la Pintura
ATTACH;FMTTYPE=image/jpeg:https://historico.ateneovalencia.es/wp-content/uploads/2024/01/20240213-Grandes-Maestros-Pintura-sXV-Amando.jpg
END:VEVENT
END:VCALENDAR