BEGIN:VCALENDAR
VERSION:2.0
PRODID:-//Ateneo Mercantil de Valencia - ECPv6.0.4//NONSGML v1.0//EN
CALSCALE:GREGORIAN
METHOD:PUBLISH
X-ORIGINAL-URL:https://historico.ateneovalencia.es
X-WR-CALDESC:Eventos para Ateneo Mercantil de Valencia
REFRESH-INTERVAL;VALUE=DURATION:PT1H
X-Robots-Tag:noindex
X-PUBLISHED-TTL:PT1H
BEGIN:VTIMEZONE
TZID:Europe/Madrid
BEGIN:DAYLIGHT
TZOFFSETFROM:+0100
TZOFFSETTO:+0200
TZNAME:CEST
DTSTART:20240331T010000
END:DAYLIGHT
BEGIN:STANDARD
TZOFFSETFROM:+0200
TZOFFSETTO:+0100
TZNAME:CET
DTSTART:20241027T010000
END:STANDARD
END:VTIMEZONE
BEGIN:VEVENT
DTSTART;TZID=Europe/Madrid:20240212T190000
DTEND;TZID=Europe/Madrid:20240212T203000
DTSTAMP:20260421T203209
CREATED:20230720T105824Z
LAST-MODIFIED:20240207T114224Z
UID:75117-1707764400-1707769800@historico.ateneovalencia.es
SUMMARY:Ciclo El Antiguo Egipto: Cámaras ocultas en la Gran Pirámide
DESCRIPTION:"Cámaras secretas en la Gran Pirámide" es la próxima conferencia de Nacho Ares\, quien viene a Valencia para ofrecerla de manera presencial en el Teatro Ateneo. Recientemente se ha dado a conocer la existencia de una nueva cámara en la cara norte de la Gran Pirámide. El monumentos nos ha cautivado desde hace generaciones. En esta charla hablaremos de los últimos hallazgos y cómo se han desarrollado los estudios de radar para buscar nuevas cámaras. \nEnlace para el Online: https://youtu.be/n2vWRwTQE3w\nYa en 2016 las mediciones habían dado suficientes motivos como para suponer de la existencia de un espacio hueco oculto en las proximidades de los bloques de Chevrón (un símbolo heráldico con forma de compás sobre la entrada). Hace tan sólo unos meses\, científicos de la Universidad Técnica de Munich lograron confirmar el hallazgo de una cámara secreta gracias al uso de ultrasonidos y endoscopia. Una importante contribución a la Egiptología. \nLa pirámide de Keops\, la mayor y más antigua de las pirámides\, es una de las estructuras mejor investigadas del mundo\, por lo que este hallazgo es muy importante\, y demuestra que esta estructura todavía guarda muchos secretos por descubrir. En la conferencia comentaremos este hallazgo y otros que se han producido en los últimos tiempos en la gran pirámide del faraón Keops de Guiza\, cerca de El Cairo. \nTítulo: Cámaras ocultas en la Gran Pirámide \nConferenciante: Nacho Ares. Historiador\, escritor\, egiptólogo y director del programa SER HISTORIA en la Cadena Ser. \nDía: Lunes 12 de febrero de 2024 \nHora: 19 horas \nLugar: Teatro Ateneo. Ateneo Mercantil de Valencia  \nEntrada libre y gratuita hasta completar el aforo. \nCartel:
URL:https://historico.ateneovalencia.es/evento/ciclo-el-antiguo-egipto-camaras-ocultas-en-la-gran-piramide/
LOCATION:Teatro Ateneo
CATEGORIES:Ciclo Antiguo Egipto
ATTACH;FMTTYPE=image/jpeg:https://historico.ateneovalencia.es/wp-content/uploads/2023/07/20231030-Camaras-Secretas-Gran-Piramide-Nacho-Ares.jpg
END:VEVENT
END:VCALENDAR