BEGIN:VCALENDAR
VERSION:2.0
PRODID:-//Ateneo Mercantil de Valencia - ECPv6.0.4//NONSGML v1.0//EN
CALSCALE:GREGORIAN
METHOD:PUBLISH
X-ORIGINAL-URL:https://historico.ateneovalencia.es
X-WR-CALDESC:Eventos para Ateneo Mercantil de Valencia
REFRESH-INTERVAL;VALUE=DURATION:PT1H
X-Robots-Tag:noindex
X-PUBLISHED-TTL:PT1H
BEGIN:VTIMEZONE
TZID:Europe/Madrid
BEGIN:DAYLIGHT
TZOFFSETFROM:+0100
TZOFFSETTO:+0200
TZNAME:CEST
DTSTART:20240331T010000
END:DAYLIGHT
BEGIN:STANDARD
TZOFFSETFROM:+0200
TZOFFSETTO:+0100
TZNAME:CET
DTSTART:20241027T010000
END:STANDARD
END:VTIMEZONE
BEGIN:VEVENT
DTSTART;TZID=Europe/Madrid:20240116T170000
DTEND;TZID=Europe/Madrid:20240116T183000
DTSTAMP:20260422T182440
CREATED:20231217T112136Z
LAST-MODIFIED:20240104T095411Z
UID:76194-1705424400-1705429800@historico.ateneovalencia.es
SUMMARY:Mujeres Pintoras: del s. XVI al s. XVIII
DESCRIPTION:Primera de las dos conferencia de este mini ciclo de pintura que inicia de nuevo el profesor Amando García en el que hablará de mujeres pintoras desde el siglo XVI al siglo XX. A lo largo de la historia las mujeres artistas se han encontrado infinidad de piedras en el camino en el mundo del arte\, ya siempre estuvo reservado a los hombres. \nEnlace para el Online: https://youtu.be/Qp2qVt6SBz4\nPor suerte\, muchas mujeres dejaron su arte plasmado aunque fuera bajo un seudónimo\, un nombre masculino o el siempre y recurrente "anónimo"\, pero otras sí firmaron y dejaron un reguero de nombres femeninos que llega hasta nuestros días y se traduce en vanguardias. \nTítulo: Mujeres Pintoras: del s. XVI al s. XVIII \nConferenciante: Prof. D. Amando García \nDía: Martes 16 de enero de 2024 \nHora: 17 horas \nLugar: Online - Canal de Youtube Ateneo \nCartel:\n \n 
URL:https://historico.ateneovalencia.es/evento/mujeres-pintoras-del-s-xvi-al-s-xviii/
LOCATION:On line
CATEGORIES:Ciclo de Conferencias
ATTACH;FMTTYPE=image/jpeg:https://historico.ateneovalencia.es/wp-content/uploads/2023/12/20240116-Mujeres-pintoras-s-XVI-XVIII.jpg
END:VEVENT
BEGIN:VEVENT
DTSTART;TZID=Europe/Madrid:20240116T190000
DTEND;TZID=Europe/Madrid:20240116T203000
DTSTAMP:20260422T182440
CREATED:20231120T093350Z
LAST-MODIFIED:20240104T101644Z
UID:75938-1705431600-1705437000@historico.ateneovalencia.es
SUMMARY:Tertulia histórica sobre la novela "Maldita Roma" con Santiago Posteguillo y Antonio Penadés
DESCRIPTION:El Ateneo Mercantil de Valencia tiene el placer de invitarles a la presentación del último libro de Santiago Posteguillo "Maldita Roma" y de nuevo se hará un evento especial para celebrar esta tan esperada tertulia histórica. Así\, el próximo Martes 16 de enero de 2024 a las 19 horas en el Teatro Ateneo del Ateneo Mercantil\, el escritor Santiago Posteguillo nos trae su último libro\, que corresponde a su segunda novela de la nueva serie sobre Julio César\, tan esperada por sus millones de lectores. \nUn acto especial porque contaremos no sólo con el afamado escritor\, sino que lo hemos juntado con un especialista en la materia como es el historiador\, escritor\, periodista y abogado\, Antonio Penadés\, para que dé su charla sobre Julio César\, sobre Roma y el Imperio Romano salga una charla didáctica y muy completa para todos los espectadores. \nEnlace para la conferencia Online: https://youtu.be/2yBLlaYkwBc\n\nTras el monumental éxito de Roma soy yo\, continúa la saga sobre Julio César\, narrada como sólo Posteguillo podría hacerlo. ROMA LO EXIGE TODO. EN ROMA TODO ESTÁ EN VENTA. MALDITA SEA POR SIEMPRE ROMA. Mare Internum\, año 75 a. C. Un barco mercante navega rumbo a la isla de Rodas. A bordo\, Julio César acompañado sólo por su fiel Labieno. Obligado por sus enemigos a exiliarse de Roma\, se dirige al encuentro con el maestro Apolonio para aprender oratoria y de este modo\, a su regreso\, iniciar una feroz pugna para ingresar en el Senado y enfrentarse allí al temido Cicerón. \nAsí arranca la extraordinaria segunda entrega de la saga dedicada a Julio César por Santiago Posteguillo. En Maldita Roma encontraremos ya al mito en la plenitud de su talento político y militar\, dispuesto a vencer cualquier obstáculo en su imparable conquista del poder. Este es un relato sin tregua en el que viviremos ataques piratas\, el enfrentamiento con Espartaco en la rebelión de los esclavos\, grandes batallas en las que sentiremos el olor de la sangre y el estruendo de los gladios. Comprenderemos los hábiles manejos de César para ascender en política y asistiremos\, incluso\, al nacimiento de la reina Cleopatra a orillas del Nilo. \nUna novela magistral que nos habla sobre el auténtico precio del poder. Y es que Julio César está a punto de aprender que Roma lo exige todo\, hasta su bien más preciado\, lo único que él no está dispuesto a entregar. Pero Roma no negocia con nadie. Ni con César. Maldita Roma. Combinando con maestría un exhaustivo rigor histórico y una capacidad narrativa extraordinaria\, Santiago Posteguillo logra sumergir al lector en el fragor del mito. \nCartel:
URL:https://historico.ateneovalencia.es/evento/tertulia-historica-sobre-la-novela-maldita-roma-con-santiago-posteguillo-y-antonio-penades/
LOCATION:Teatro Ateneo
CATEGORIES:Ciclo de Conferencias
ATTACH;FMTTYPE=image/jpeg:https://historico.ateneovalencia.es/wp-content/uploads/2023/11/20240116-Libro-Maldita-Roma-Posteguillo-Penades.jpg
END:VEVENT
END:VCALENDAR