BEGIN:VCALENDAR
VERSION:2.0
PRODID:-//Ateneo Mercantil de Valencia - ECPv6.0.4//NONSGML v1.0//EN
CALSCALE:GREGORIAN
METHOD:PUBLISH
X-WR-CALNAME:Ateneo Mercantil de Valencia
X-ORIGINAL-URL:https://historico.ateneovalencia.es
X-WR-CALDESC:Eventos para Ateneo Mercantil de Valencia
REFRESH-INTERVAL;VALUE=DURATION:PT1H
X-Robots-Tag:noindex
X-PUBLISHED-TTL:PT1H
BEGIN:VTIMEZONE
TZID:Europe/Madrid
BEGIN:DAYLIGHT
TZOFFSETFROM:+0100
TZOFFSETTO:+0200
TZNAME:CEST
DTSTART:20240331T010000
END:DAYLIGHT
BEGIN:STANDARD
TZOFFSETFROM:+0200
TZOFFSETTO:+0100
TZNAME:CET
DTSTART:20241027T010000
END:STANDARD
END:VTIMEZONE
BEGIN:VEVENT
DTSTART;TZID=Europe/Madrid:20240109T190000
DTEND;TZID=Europe/Madrid:20240109T203000
DTSTAMP:20260421T174532
CREATED:20231214T124425Z
LAST-MODIFIED:20240102T113730Z
UID:76182-1704826800-1704832200@historico.ateneovalencia.es
SUMMARY:Ciclo de Conferencias: Brujas y Magos de Grecia y Roma
DESCRIPTION:De nuevo nos adentramos en el misterio de la mano de Fernando Lillo Redonet. El Ciclo de Conferencias del Ateneo Mercantil llega el próximo martes 9 de enero de 2024 a las 19 horas con la ponencia Online "Brujas y Magos de Grecia y Roma". El Prof. Dr. Fernando Lillo Redonet es Doctor en Filología Clásica\, profesor en el IES San Tomé de Freixeiro\, escritor y miembro del grupo de recreación histórica MOS RELIGIOSVS. \nEnlace para el Online: https://youtu.be/KkGNgGt2sMU\nEn esta conferencia nos propone un viaje al mundo de los magos y las brujas de Grecia y Roma que sorprenderá a todos\, ya que la tradición clásica nos ha acostumbrado a la racionalidad de los griegos y al sentido práctico de los romanos\, pero sorprenderán la cantidad de historias sobrenaturales que circulaban en la Antigüedad. Los griegos y romanos\, en su afán por conseguir seguridad y éxito en la vida\, acudían a magos y brujas que mediante sofisticados conjuros solventaban las necesidades de sus clientes. \nTítulo: Brujas y Magos de Grecia y Roma \nConferenciante: Prof. Dr. Fernado Lillo Redonet \nDía: Martes 9 de enero de 2024 \nHora: 19 horas \nLugar: Online (Canal de Youtubre del Ateneo) \nEntrada libre y gratuita hasta completar aforo. \nCurriculum de Fernando Lillo:\nFernando Lillo Redonet (Castellón de la Plana\, 1969) es Doctor en Filología Clásica\, profesor de Latín en el IES San Tomé de Freixeiro (Vigo) y autor de numerosos libros y artículos sobre el Mundo Antiguo. Es miembro del grupo de recreación histórica MOS RELIGIOSVS. Ha dedicado varias de sus obras a divulgar la vida cotidiana en la antigua Roma y en ciudades de Hispania mediante sus libros Un salmantino en Roma (1990)\, Noches Romanas (1991)\, Un salmantino en Mérida (1994) y Un salmantino en Segóbriga (1996). Ha sido pionero en España en los estudios sobre el cine de romanos con sus obras El cine de romanos y su aplicación didáctica (1994) y El cine de tema griego y su aplicación didáctica (1997). \nEs autor también de guías didácticas de películas como Gladiator\, Troya o Alejandro Magno. Su último libro en este campo es Héroes de Grecia y Roma en la pantalla (2010) en la colección Evohé Didaska. En esa misma colección ha publicado el libro Gladiadores: mito y realidad (2011). Es colaborador habitual de Historia National Geographic\, revista en la que ha publicado artículos y reseñas sobre el mundo griego y romano. \nEn su faceta de escritor es autor de las novelas Teucro\, el arquero de Troya (2004)\, Medulio. El Norte contra Roma (2005) y Séneca. El camino del sabio (2006). Desde hace unos años dirige el Taller de gladiadores de Lillus Maximus\, una actividad didáctica que acerca a los estudiantes al mundo de los gladiadores de un modo ameno y riguroso. \nCartel:
URL:https://historico.ateneovalencia.es/evento/ciclo-de-conferencias-brujas-y-magos-de-grecia-y-roma/
LOCATION:On line
CATEGORIES:Ciclo de Conferencias
ATTACH;FMTTYPE=image/jpeg:https://historico.ateneovalencia.es/wp-content/uploads/2023/12/20240109-Magos-y-Brujas-LILLO.jpg
END:VEVENT
END:VCALENDAR