BEGIN:VCALENDAR
VERSION:2.0
PRODID:-//Ateneo Mercantil de Valencia - ECPv6.0.4//NONSGML v1.0//EN
CALSCALE:GREGORIAN
METHOD:PUBLISH
X-ORIGINAL-URL:https://historico.ateneovalencia.es
X-WR-CALDESC:Eventos para Ateneo Mercantil de Valencia
REFRESH-INTERVAL;VALUE=DURATION:PT1H
X-Robots-Tag:noindex
X-PUBLISHED-TTL:PT1H
BEGIN:VTIMEZONE
TZID:Europe/Madrid
BEGIN:DAYLIGHT
TZOFFSETFROM:+0100
TZOFFSETTO:+0200
TZNAME:CEST
DTSTART:20230326T010000
END:DAYLIGHT
BEGIN:STANDARD
TZOFFSETFROM:+0200
TZOFFSETTO:+0100
TZNAME:CET
DTSTART:20231029T010000
END:STANDARD
END:VTIMEZONE
BEGIN:VEVENT
DTSTART;TZID=Europe/Madrid:20231204T190000
DTEND;TZID=Europe/Madrid:20231204T203000
DTSTAMP:20260422T025657
CREATED:20231108T174913Z
LAST-MODIFIED:20231127T085832Z
UID:75805-1701716400-1701721800@historico.ateneovalencia.es
SUMMARY:George Sand: El arte de la vida y la literatura
DESCRIPTION:Más allá de sus amores con Chopin y otros artistas\, Sand se entregó plenamente al oficio de escritora\, haciendo de su residencia campestre de Nohant un verdadero centro cultural de literatos\, músicos y pintores en la Francia del siglo XIX. \nEnlace para el Online: https://youtu.be/7ZZyBafJPHQ\nGeorge Sand era el pseudónimo empleado por Amantine Aurore Lucile Dupin de Dudevant\, una novelista y periodista francesa\, considerada una de las escritoras más populares y notables de Europa en el siglo XIX\, del Romanticismo Francés. Entre 1832 y 1873\, Sand publicó casi un centenar de libros. Firmó novelas\, obras de teatro\, textos de carácter político y otros de corte biográfico. También rubricó colaboraciones en prensa. Fue una escritora incansable\, una ferviente luchadora por los derechos del pueblo\, la libertad individual y la igualdad de sexos. \nTítulo: George Sand: El arte de la vida y la literatura \nConferenciante: Prof. Juana Martínez Otón. Filóloga Clásica y profesora de griego y cultura clásica.  \nDía: Lunes 4 de diciembre de 2023 \nHora: 19 horas \nLugar: Teatro Ateneo \nEntrada libre y gratuita hasta completar aforo. \nCurrículum de Juana Martínez Otón\nCartagena\, España\, 1963. Es profesora de Griego y Cultura Clásica en ESO y Bachillerato. Filóloga Clásica (1988). Master en El Mundo Clásico (2017). Primer Premio del concurso Relats de Dona\, del Ayuntamiento de Tarragona (2004); Finalista del XXVII concurso de Poesía Urbanización Mediterráneo del Ayuntamiento de Cartagena (2018); Conferenciante en el Centre de Lectura de Reus y en el festival Tarraco Viva. \nA través de un anecdotario recogido por eruditos de la época\, el lector se adentrará en la biografía de 17 prostitutas de la Antigua Grecia. \nLos escritos\, cómicos a veces\, dejarán también entrever un fragmento de aquella otra realidad de la que fueron protagonistas y en la que se pondrá en evidencia la brutal cotidianidad en la que se desarrollaron sus vidas\, sin olvidar la mención a la controvertida figura de la hetera. \nUnas prostitutas cuyos tiempos recorrerán del s. VI al III a. C.\, y cuyas vivencias nos darán a conocer detalles ignorados o pasados por alto de la Historia de Grecia. \nQueridas de faraones y de filósofos convivirán con otras de menor suerte\, aunque todas y cada una de ellas nos brindarán una visión variopinta y diversa de una realidad histórica de Grecia que\, tal vez\, se nos había hurtado. \nEn definitiva\, una invitación a todo curioso del Mundo Clásico para discernir la verdad a partir de las fuentes textuales de una tradición helénica\, que no escatimó en detalles para describir a ellas y a sus amantes. \nCartel:
URL:https://historico.ateneovalencia.es/evento/george-sand-el-arte-de-la-vida-y-la-literatura/
LOCATION:Teatro Ateneo
CATEGORIES:Ciclo de Conferencias
ATTACH;FMTTYPE=image/jpeg:https://historico.ateneovalencia.es/wp-content/uploads/2023/11/20231204-George-Sand-Martinez-Oton.jpg
END:VEVENT
BEGIN:VEVENT
DTSTART;TZID=Europe/Madrid:20231204T190000
DTEND;TZID=Europe/Madrid:20231204T203000
DTSTAMP:20260422T025657
CREATED:20231109T091105Z
LAST-MODIFIED:20231128T113931Z
UID:75809-1701716400-1701721800@historico.ateneovalencia.es
SUMMARY:Apuntes para una Historia de la Sanidad Militar Española (1872-1939). De la Guerra Carlista a la Guerra Civil Española
DESCRIPTION:El Instituto de Historia y Cultura Militar y Sanidad Militar - ISFAS organizan una conferencia en el Ateneo Mercantil de Valencia el próximo lunes 4 de ciembre a las 19 horas en el Salón Sorolla de la institución. Una ponencia sobre la historia de la Sanidad Militar Española y que contará como conferenciante con el médico y doctor en Historia\, Dr. D. Pablo Larraz Andía\, y como presentador del acto con el director del Museo Histórico Militar de Valencia\, D. Vicente León Zafra. \nLa conferencia arrancará desde la Guerra Carlista y a través de un recorrido por los principales episodios y acciones bélicas acaecidos durante la última contienda civil del siglo XIX\, la conferencia versará sobre la organización\, estructura y actuación de los servicios sanitarios\, tanto en el Ejército liberal como en el carlista. También de la creación e intervenciones durante el conflicto de la Cruz Roja española y de la asociación benéfica carlista La Caridad. \nAsí mismo\, se hará especial énfasis en los adelantos tecnológicos y asistenciales aplicados\, en la actuación de figuras destacadas de la sanidad militar del momento\, en particular del médico liberal Nicasio Landa. Se abordarán también aspectos poco conocidos del conflicto\, como el desarrollo del humanitarismo\, el derecho de guerra o los acuerdos para el canje e intercambio de heridos. La exposición se acompañará de la proyección de documentos\, fotografías y grabados de la época. \nY finalizará el recorrido histórico de la Sanidad Militar Española en la Guerra Civil Española. La Sanidad Militar es una parte esencial dentro del organigrama de cualquier ejército y durante la Guerra Civil desarrolló y puso en práctica nuevas técnicas sanitarias como el "Método Español". Una de las mayores innovaciones de origen español fue la invención\, en 1920\, del autogiro de Juan de la Cierva. Predecesor de los helicópteros\, esta aeronave fue puesta al servicio de la Aviación Sanitaria europea y mundial. Todas las innovaciones\, militares y sanitarias\, surgidas en España durante el conflicto civil\, tendrán un reflejo y aplicación en los diferentes países europeos\, sobre todo en la II Guerra Mundial. \nCurrículum de Pablo Larraz Andía:\nNacido en Pamplona en 1974\, es médico rural y doctor en Historia de la Medicina por la Universidad de Navarra. Sus investigaciones históricas se han centrado en aspectos sanitarios militares de los conflictos civiles que asolaron España en los siglos XIX y XX. En ellas\, ha recurrido a la fuente oral y a la fotografía como medios privilegiados de acceso al contexto antropológico y social que los rodearon. \nEntre sus numerosas publicaciones destacan: Entre el frente y la retaguardia. La Sanidad en la guerra civil: el Hospital Alfonso Carlos de Pamplona 1936-1939 (Actas\, 2004)\, obra galardonada con el IX Premio Internacional de Historia del Carlismo Luis Hernando de Larramendi; Aventuras de un gentleman en la tercera carlistada (Gobierno de Navarra\, 2007); La batalla de Lácar\, 3 de febrero de 1875 (Fecit\, 2010); Requetés. De las trincheras al olvido (La Esfera de los Libros\, 2011); Abárzuza\, 1874. El día en que murió Concha (Ayuntamiento Abárzuza\, 2013); La cámara en el macuto. Fotógrafos y combatientes en la guerra civil española (La Esfera de los Libros\, 2018); y Luz en la penumbra. Sanidad y humanitarismo en los conflictos bélicos de los siglos XIX y XX (Gobierno de Navarra\, 2022). \nEs también autor de numerosos artículos en revistas especializadas\, capítulos de libro\, conferencias y comisario de varias exposiciones sobre hospitales de guerra\, fotografía bélica y sanidad militar durante los periodos referidos. \nTítulo: Apuntes para una Historia de la Sanidad Militar Española (1872-1939). De la Guerra Carlista a la Guerra Civil Española \nConferenciante: Dr. D. Pablo Larraz Andía. Médico y Doctor en Historia. \nPresenta: D. Vicente León Zafra. Director del Museo Militar. \nDía: Lunes 4 de diciembre de 2023 \nHora: 19 horas \nLugar: Salón Sorolla del Ateneo Mercantil de Valencia (5ª planta) \nEntrada libre y gratuita hasta completar aforo. \nCartel:
URL:https://historico.ateneovalencia.es/evento/apuntes-para-una-historia-de-la-sanidad-militar-espanola-1872-1939-de-la-guerra-carlista-a-la-guerra-civil-espanola/
LOCATION:Salón Sorolla - Ateneo Mercantil de Valencia\, Plaza del Ayuntamiento 18\, Valencia\, Valencia\, 46002\, España
CATEGORIES:Ciclo de Conferencias
ATTACH;FMTTYPE=image/jpeg:https://historico.ateneovalencia.es/wp-content/uploads/2023/11/20231204-Sanidad-Militar-Espanola-1.jpg
END:VEVENT
END:VCALENDAR