BEGIN:VCALENDAR
VERSION:2.0
PRODID:-//Ateneo Mercantil de Valencia - ECPv6.0.4//NONSGML v1.0//EN
CALSCALE:GREGORIAN
METHOD:PUBLISH
X-ORIGINAL-URL:https://historico.ateneovalencia.es
X-WR-CALDESC:Eventos para Ateneo Mercantil de Valencia
REFRESH-INTERVAL;VALUE=DURATION:PT1H
X-Robots-Tag:noindex
X-PUBLISHED-TTL:PT1H
BEGIN:VTIMEZONE
TZID:Europe/Madrid
BEGIN:DAYLIGHT
TZOFFSETFROM:+0100
TZOFFSETTO:+0200
TZNAME:CEST
DTSTART:20230326T010000
END:DAYLIGHT
BEGIN:STANDARD
TZOFFSETFROM:+0200
TZOFFSETTO:+0100
TZNAME:CET
DTSTART:20231029T010000
END:STANDARD
END:VTIMEZONE
BEGIN:VEVENT
DTSTART;TZID=Europe/Madrid:20231121T173000
DTEND;TZID=Europe/Madrid:20231121T190000
DTSTAMP:20260421T204914
CREATED:20230615T094543Z
LAST-MODIFIED:20231113T130358Z
UID:74600-1700587800-1700593200@historico.ateneovalencia.es
SUMMARY:Ciclo Las Claves de la Pintura: Perspectiva - Sesión 5
DESCRIPTION:A través de estas breves notas se pretende proporcionar algunos datos e información relevante sobre el ciclo al que nos estamos refiriendo\, con un total de seis conferencias. Advertimos de entrada que todas estas conferencias se referirán exclusivamente a la pintura occidental\, sin entrar en el tema de las pinturas genuinamente orientales o africanas\, muy diferentes a las anteriores en todos los sentidos. Es evidente que el tema que estamos considerando aquí admite planteamientos y enfoques muy diversos. Confiamos en que los que expondremos en este ciclo resulten interesantes para quienes deseen escucharnos. En todo caso\, sus acuerdos o discrepancias con nuestras opiniones serán un buen acicate para seguir reflexionando sobre éstas u otras cuestiones. \nEnlace para el Online: https://youtu.be/EqpL8Ela0NE\nOtro elemento de enorme significación en el arte de la pintura es\, sin duda alguna\, la perspectiva\, una clave absoluta de nuestro tema. Muy conscientes de su relevancia\, hemos dedicado nuestra quinta conferencia a esta cuestión. \nTítulo: Sesión 5 - Perspectiva \nConferenciante: Amando García \nDía: Martes 21 de noviembre de 2023 \nHora: 17.30 horas \nLugar: Online \nEntrada libre y gratuita hasta completar aforo. \nCartel:
URL:https://historico.ateneovalencia.es/evento/ciclo-las-claves-de-la-pintura-perspectiva-sesion-5/
LOCATION:On line
CATEGORIES:Ciclo Las Claves de la Pintura
ATTACH;FMTTYPE=image/jpeg:https://historico.ateneovalencia.es/wp-content/uploads/2023/06/20231121-Claves-Pintura-Perspectiva.jpg
END:VEVENT
BEGIN:VEVENT
DTSTART;TZID=Europe/Madrid:20231121T190000
DTEND;TZID=Europe/Madrid:20231121T203000
DTSTAMP:20260421T204914
CREATED:20231025T000643Z
LAST-MODIFIED:20231025T075622Z
UID:75701-1700593200-1700598600@historico.ateneovalencia.es
SUMMARY:Españolas del siglo XVIII\,  grandes desconocidas
DESCRIPTION:El Ateneo Mercantil de Valencia trae a primer plano a todas aquellas mujeres que\, de una u otra forma\, fueron pioneras en España. Algunas de ellas más desconocidas que otras para el público\, pero todas marcaron un antes y un después en nuestro país. Una conferencia en la que trataremos de buscar tanto a esas mujeres del siglo XVIII tan desconocidas como los comienzos de la prensa femenina y su presencia en las instituciones españolas. \nBajo el título "Españolas del siglo XVIII\, grandes desconocidas"\, el ponente Alejandro Mohorte nos hablará de las pioneras en distintas materias\, mujeres que abrieron el camino a otras muchas y que cambiaron nuestro país hacia la modernidad y el aperturismo. Nos hablará de los antecedentes a todas esas mujeres que entre los siglo s. XVII y XVIII lograron hitos que hoy no muchos conocen pero que causaron una revolución social por entonces. \nTítulo: Españolas del siglo XVIII\, grandes desconocidas \nConferenciante: Alejandro Mohorte Medina \nDía: Martes 21 de noviembre de 2023 \nHora: 19 horas \nLugar: Salón Sorolla \nEntrada libre y gratuita hasta completar aforo. \nCartel:\n \n 
URL:https://historico.ateneovalencia.es/evento/espanolas-del-siglo-xviii-grandes-desconocidas/
LOCATION:Salón Sorolla - Ateneo Mercantil de Valencia\, Plaza del Ayuntamiento 18\, Valencia\, Valencia\, 46002\, España
CATEGORIES:Ciclo de Conferencias
ATTACH;FMTTYPE=image/jpeg:https://historico.ateneovalencia.es/wp-content/uploads/2023/10/20231121-Mujeres-espanolas-desconocidas.jpg
END:VEVENT
END:VCALENDAR