BEGIN:VCALENDAR
VERSION:2.0
PRODID:-//Ateneo Mercantil de Valencia - ECPv6.0.4//NONSGML v1.0//EN
CALSCALE:GREGORIAN
METHOD:PUBLISH
X-WR-CALNAME:Ateneo Mercantil de Valencia
X-ORIGINAL-URL:https://historico.ateneovalencia.es
X-WR-CALDESC:Eventos para Ateneo Mercantil de Valencia
REFRESH-INTERVAL;VALUE=DURATION:PT1H
X-Robots-Tag:noindex
X-PUBLISHED-TTL:PT1H
BEGIN:VTIMEZONE
TZID:Europe/Madrid
BEGIN:DAYLIGHT
TZOFFSETFROM:+0100
TZOFFSETTO:+0200
TZNAME:CEST
DTSTART:20230326T010000
END:DAYLIGHT
BEGIN:STANDARD
TZOFFSETFROM:+0200
TZOFFSETTO:+0100
TZNAME:CET
DTSTART:20231029T010000
END:STANDARD
END:VTIMEZONE
BEGIN:VEVENT
DTSTART;TZID=Europe/Madrid:20231010T173000
DTEND;TZID=Europe/Madrid:20231010T190000
DTSTAMP:20260421T170226
CREATED:20230615T093017Z
LAST-MODIFIED:20230930T080458Z
UID:74588-1696959000-1696964400@historico.ateneovalencia.es
SUMMARY:Ciclo Las Claves de la Pintura: Técnicas - Sesión 2
DESCRIPTION:A través de estas breves notas se pretende proporcionar algunos datos e información relevante sobre el ciclo al que nos estamos refiriendo\, con un total de seis conferencias. Advertimos de entrada que todas estas conferencias se referirán exclusivamente a la pintura occidental\, sin entrar en el tema de las pinturas genuinamente orientales o africanas\, muy diferentes a las anteriores en todos los sentidos. Es evidente que el tema que estamos considerando aquí admite planteamientos y enfoques muy diversos. Confiamos en que los que expondremos en este ciclo resulten interesantes para quienes deseen escucharnos. En todo caso\, sus acuerdos o discrepancias con nuestras opiniones serán un buen acicate para seguir reflexionando sobre éstas u otras cuestiones. \nEnlace para el Online: https://youtu.be/jbBkKInS2Go\nLa segunda conferencia está dedicada a las técnicas. Es un tema crucial al hablar de la pintura\, aunque sea a título de introducción\, dada su significación y relevancia para conocer y valorar adecuadamente el arte de la pintura. \nTítulo: Sesión 2 - Técnicas \nConferenciante: Amando García \nDía: Martes 10 de octubre de 2023 \nHora: 17.30 horas \nLugar: Online \nEntrada libre y gratuita hasta completar aforo. \nCartel:
URL:https://historico.ateneovalencia.es/evento/ciclo-las-claves-de-la-pintura-tecnicas-sesion-2/
LOCATION:On line
CATEGORIES:Ciclo Las Claves de la Pintura
ATTACH;FMTTYPE=image/jpeg:https://historico.ateneovalencia.es/wp-content/uploads/2023/06/20231010-Claves-Pintura-Tecnicas.jpg
END:VEVENT
END:VCALENDAR