BEGIN:VCALENDAR
VERSION:2.0
PRODID:-//Ateneo Mercantil de Valencia - ECPv6.0.4//NONSGML v1.0//EN
CALSCALE:GREGORIAN
METHOD:PUBLISH
X-WR-CALNAME:Ateneo Mercantil de Valencia
X-ORIGINAL-URL:https://historico.ateneovalencia.es
X-WR-CALDESC:Eventos para Ateneo Mercantil de Valencia
REFRESH-INTERVAL;VALUE=DURATION:PT1H
X-Robots-Tag:noindex
X-PUBLISHED-TTL:PT1H
BEGIN:VTIMEZONE
TZID:Europe/Madrid
BEGIN:DAYLIGHT
TZOFFSETFROM:+0100
TZOFFSETTO:+0200
TZNAME:CEST
DTSTART:20230326T010000
END:DAYLIGHT
BEGIN:STANDARD
TZOFFSETFROM:+0200
TZOFFSETTO:+0100
TZNAME:CET
DTSTART:20231029T010000
END:STANDARD
END:VTIMEZONE
BEGIN:VEVENT
DTSTART;TZID=Europe/Madrid:20230926T190000
DTEND;TZID=Europe/Madrid:20230926T203000
DTSTAMP:20260421T213633
CREATED:20230525T113432Z
LAST-MODIFIED:20230907T094010Z
UID:74397-1695754800-1695760200@historico.ateneovalencia.es
SUMMARY:El Coliseo. Historias de sangre y arena
DESCRIPTION:El Coliseo fue el anfiteatro más grande del mundo\, en sus entrañas gladiadores luchaban hasta la muerte\, pero también hubo grandiosas cacerías de animales\, ejecuciones de mártires\, batallas navales e incluso exhibiciones acrobáticas. El escritor Fernando Lillo nos trae una secuencia de historias fundamentadas en fuentes literarias\, epigráficas y arqueológicas\, junto con las últimas investigaciones que han visto la luz\, para acercarnos fielmente lo que sucedía en el gran Coliseo romano. "Coliseo\, historias de sangre y arena" nos trae relatos de historia ficcionada que nos sumergen en un edificio que hasta el siglo XX fue el de mayor capacidad del mundo. \nEnlace para el Online: https://youtu.be/Cs_KOgIQHXE\nLa famosa expresión panem et circenses (pan y circo) resumía a la perfección lo que los gobernantes de la urbe requerían para manejar a la plebe y mantenerla entretenida. Hasta 50.000 espectadores podían participar de las sangrientas diversiones con que los emperadores cortejaban al pueblo. Son muchos los mitos en torno al Coliseo\, pero Fernando Lillo nos trae historias documentadas y que pondrán pinceladas de realidad a esas historias mitificadas. \nTítulo: "El Coliseo. Historias de sangre y arena" \nConferenciante: Prof. Dr. Fernando Lillo Redonet \nDía: Martes 26 de septiembre de 2023 \nHora: 19 horas \nLugar: Conferencia Online (no presencial) \nBreve curriculum de Fernando Lillo:\nFernando Lillo Redonet (Castellón de la Plana\, 1969) es doctor en Filología Clásica por la Universidad de Salamanca y catedrático de Latín en el IES San Tomé de Freixeiro (Vigo). Lleva treinta años investigando y divulgando el Mundo Clásico en multitud de cursos\, conferencias\, artículos y libros. Sus últimas publicaciones son Un día en Pompeya (2020) y Hotel Roma. Turismo en el Imperio romano (2022). Es\, además\, colaborador habitual de Historia National Geographic y Arqueología e Historia Desperta Ferro. \nCartel:
URL:https://historico.ateneovalencia.es/evento/el-coliseo-historias-de-sangre-y-arena/
LOCATION:On line
CATEGORIES:Ciclo de Conferencias
ATTACH;FMTTYPE=image/jpeg:https://historico.ateneovalencia.es/wp-content/uploads/2023/05/20230926-Coliseo-Historias-Sangre-y-Arena.jpg
END:VEVENT
END:VCALENDAR