BEGIN:VCALENDAR
VERSION:2.0
PRODID:-//Ateneo Mercantil de Valencia - ECPv6.0.4//NONSGML v1.0//EN
CALSCALE:GREGORIAN
METHOD:PUBLISH
X-WR-CALNAME:Ateneo Mercantil de Valencia
X-ORIGINAL-URL:https://historico.ateneovalencia.es
X-WR-CALDESC:Eventos para Ateneo Mercantil de Valencia
REFRESH-INTERVAL;VALUE=DURATION:PT1H
X-Robots-Tag:noindex
X-PUBLISHED-TTL:PT1H
BEGIN:VTIMEZONE
TZID:Europe/Madrid
BEGIN:DAYLIGHT
TZOFFSETFROM:+0100
TZOFFSETTO:+0200
TZNAME:CEST
DTSTART:20230326T010000
END:DAYLIGHT
BEGIN:STANDARD
TZOFFSETFROM:+0200
TZOFFSETTO:+0100
TZNAME:CET
DTSTART:20231029T010000
END:STANDARD
END:VTIMEZONE
BEGIN:VEVENT
DTSTART;TZID=Europe/Madrid:20230703T190000
DTEND;TZID=Europe/Madrid:20230703T203000
DTSTAMP:20260423T184859
CREATED:20230614T085215Z
LAST-MODIFIED:20230621T083120Z
UID:74543-1688410800-1688416200@historico.ateneovalencia.es
SUMMARY:"La prostitución en la Antigua Grecia"
DESCRIPTION:La Antigua Grecia es una fuente inagotable de historias de la historia. Más allá de filósofos\, gobernantes\, guerreros\, también había prostitutas\, algunas de las cuales desempeñaron un importante papel. Entre ellas\, las hubo cultas e influyentes\, aunque siempre fueran denostadas por los hombres. \nEnlace para el Online: https://youtu.be/7DS7bsX0MlQ\nA través de un anecdotario recogido por eruditos de la época\, nos adentraremos en la biografía de 17 prostitutas de la Antigua Grecia. Los escritos\, cómicos a veces\, dejarán también entrever un fragmento de aquella otra realidad de la que fueron protagonistas y en la que se pondrá en evidencia la brutal cotidianidad en la que se desarrollaron sus vidas\, sin olvidar la mención a la controvertida figura de la hetera. \nUnas prostitutas cuyos tiempos recorrerán del s. VI al III a. C.\, y cuyas vivencias nos darán a conocer detalles ignorados o pasados por alto de la Historia de Grecia. Queridas de faraones y de filósofos convivirán con otras de menor suerte\, aunque todas y cada una de ellas nos brindarán una visión variopinta y diversa de una realidad histórica de Grecia que\, tal vez\, se nos había hurtado. En definitiva\, una invitación a todo curioso del Mundo Clásico para discernir la verdad a partir de las fuentes textuales de una tradición helénica\, que no escatimó en detalles para describir a ellas y a sus amantes. \nTítulo: La prostitución en la Antigua Grecia \nConferenciante: Juana Martínez Otón. Escritora. Filóloga Clásica y profesora de Griego y Cultura Clásica. \nDía: Lunes 3 de julio de 2023 \nHora: 19 horas \nLugar: Salón de Actos del Ateneo Mercantil de Valencia \nEntrada libre y gratuita hasta completar aforo \nCurrículum de Juana Martínez Otón\nCartagena\, España\, 1963. Es profesora de Griego y Cultura Clásica en ESO y Bachillerato. Filóloga Clásica (1988). Master en El Mundo Clásico (2017). Primer Premio del concurso Relats de Dona\, del Ayuntamiento de Tarragona (2004); Finalista del XXVII concurso de Poesía Urbanización Mediterráneo del Ayuntamiento de Cartagena (2018); Conferenciante en el Centre de Lectura de Reus y en el festival Tarraco Viva. \nA través de un anecdotario recogido por eruditos de la época\, el lector se adentrará en la biografía de 17 prostitutas de la Antigua Grecia. \nLos escritos\, cómicos a veces\, dejarán también entrever un fragmento de aquella otra realidad de la que fueron protagonistas y en la que se pondrá en evidencia la brutal cotidianidad en la que se desarrollaron sus vidas\, sin olvidar la mención a la controvertida figura de la hetera. \nUnas prostitutas cuyos tiempos recorrerán del s. VI al III a. C.\, y cuyas vivencias nos darán a conocer detalles ignorados o pasados por alto de la Historia de Grecia. \nQueridas de faraones y de filósofos convivirán con otras de menor suerte\, aunque todas y cada una de ellas nos brindarán una visión variopinta y diversa de una realidad histórica de Grecia que\, tal vez\, se nos había hurtado. \nEn definitiva\, una invitación a todo curioso del Mundo Clásico para discernir la verdad a partir de las fuentes textuales de una tradición helénica\, que no escatimó en detalles para describir a ellas y a sus amantes. \nCartel:
URL:https://historico.ateneovalencia.es/evento/la-prostitucion-en-la-antigua-grecia/
LOCATION:Teatro Ateneo
CATEGORIES:Ciclo de Conferencias
ATTACH;FMTTYPE=image/jpeg:https://historico.ateneovalencia.es/wp-content/uploads/2023/06/20230703-Prostitucion-en-la-Antigua-Grecia.jpg
END:VEVENT
END:VCALENDAR