BEGIN:VCALENDAR
VERSION:2.0
PRODID:-//Ateneo Mercantil de Valencia - ECPv6.0.4//NONSGML v1.0//EN
CALSCALE:GREGORIAN
METHOD:PUBLISH
X-ORIGINAL-URL:https://historico.ateneovalencia.es
X-WR-CALDESC:Eventos para Ateneo Mercantil de Valencia
REFRESH-INTERVAL;VALUE=DURATION:PT1H
X-Robots-Tag:noindex
X-PUBLISHED-TTL:PT1H
BEGIN:VTIMEZONE
TZID:Europe/Madrid
BEGIN:DAYLIGHT
TZOFFSETFROM:+0100
TZOFFSETTO:+0200
TZNAME:CEST
DTSTART:20230326T010000
END:DAYLIGHT
BEGIN:STANDARD
TZOFFSETFROM:+0200
TZOFFSETTO:+0100
TZNAME:CET
DTSTART:20231029T010000
END:STANDARD
END:VTIMEZONE
BEGIN:VEVENT
DTSTART;TZID=Europe/Madrid:20230626T190000
DTEND;TZID=Europe/Madrid:20230626T203000
DTSTAMP:20260423T183217
CREATED:20230503T095125Z
LAST-MODIFIED:20230614T083713Z
UID:74194-1687806000-1687811400@historico.ateneovalencia.es
SUMMARY:"Los moriscos valencianos"
DESCRIPTION:La sociedad morisca ha sido objeto de atención desde el siglo XVI y han trascendido hasta nuestros días muchos de sus aspectos\, entre ellos la dificultad de la sociedad para imponerles su religión cristiana\, su lengua romance y sus leyes romanas. En la conferencia el Prof. Dr. Daniel Benito Goerlich nos acercará la figura de los moriscos valencianos a través de todo el material de archivos históricos y del arte. \nEnlace para el Online: https://youtu.be/ZMD3IECy9FA\nLa expulsión de los moriscos fue un largo y complejo proceso que culmina principios del siglo XVII\, en el que se multiplican los decretos oficiales frecuentemente contradictorios y las actuaciones subsiguientes no menos confusas. \nTodavía más prolongada en el tiempo y más compleja la inestable situación general de los musulmanes hispánicos\, que arranca de la implantación de varios reinos cristianos medievales de rasgos europeos en el al-Ándalus musulmán\, y los problemas que se suscitaron para la armónica integración de sus gentes\, leyes y costumbres\, especialmente en la refundación ideal de la Hispania\, romana y católica\, diseñada por los juristas del Colegio de San Clemente de Bolonia y llevada adelante por la voluntad política los monarcas españoles y sus funcionarios en el tránsito del siglo XV al XVI. \nPero intentemos llegar a ver si\, además de las expresiones oficiales consignadas y los sentimientos de universal aquiescencia (está claro que “políticamente correcta” en el contexto de la época)\, que habitualmente se atribuyen a cada uno de los actores de estos sucesos\, podemos\, desconfiando de las apariencias\, observar algún indicio de actitudes en contrario. \nParto del hecho de la secular conservación del recuerdo indeleble del morisco y de los innumerables elementos de carácter lingüístico\, esquemas mentales\, tradiciones culinarias\, fórmulas culturales\, etc.\, del pasado islámico que han perdurado; y todo ello enmarcado\, no por una concepción excluyente o aversiva\, sino mezclado con una fascinación no exenta de afecto por algo que se siente exótico y al mismo tiempo como propio… \nTítulo: "Los moriscos valencianos" \nConferenciante: Dr. Daniel Benito Goerlich \nDía: Miércoles 14 de junio de 2023 \nHora: 19 horas \nLugar: Salón de Actos del Ateneo Mercantil \nEntrada libre y gratuita hasta completar aforo. \nBreve Curriculum de Daniel Benito Goerlich\nDaniel Benito Goerlich (Valencia 1955) es Licenciado en Filosofía y Letras (Sección Historia). Doctor en Geografía e Historia (Especialidad Historia del Arte); con calificación: sobresaliente cum laude por unanimidad\, y premio extraordinario de doctorado por la Facultad de Geografía e Historia en 1983. \nCatedrático en el Departamento de Historia del Arte\, a cuyo cuerpo docente pertenece desde 1977. Ha sido Conservador del Patrimonio histórico artístico de la UVEG desde 1987 a 2018. \nDirector del Museo del Patriarca del Real Colegio Seminario de Corpus Christi. Ha dedicado su investigación a la arquitectura del siglo XIX\, la conservación del patrimonio cultural\, la historia\, iconografía y el arte valenciano. \nCartel:
URL:https://historico.ateneovalencia.es/evento/los-moriscos-valencianos/
LOCATION:Teatro Ateneo
CATEGORIES:Ciclo de Conferencias
ATTACH;FMTTYPE=image/jpeg:https://historico.ateneovalencia.es/wp-content/uploads/2023/05/20230626-Moriscos-Valencianos.jpg
END:VEVENT
END:VCALENDAR