BEGIN:VCALENDAR
VERSION:2.0
PRODID:-//Ateneo Mercantil de Valencia - ECPv6.0.4//NONSGML v1.0//EN
CALSCALE:GREGORIAN
METHOD:PUBLISH
X-WR-CALNAME:Ateneo Mercantil de Valencia
X-ORIGINAL-URL:https://historico.ateneovalencia.es
X-WR-CALDESC:Eventos para Ateneo Mercantil de Valencia
REFRESH-INTERVAL;VALUE=DURATION:PT1H
X-Robots-Tag:noindex
X-PUBLISHED-TTL:PT1H
BEGIN:VTIMEZONE
TZID:Europe/Madrid
BEGIN:DAYLIGHT
TZOFFSETFROM:+0100
TZOFFSETTO:+0200
TZNAME:CEST
DTSTART:20230326T010000
END:DAYLIGHT
BEGIN:STANDARD
TZOFFSETFROM:+0200
TZOFFSETTO:+0100
TZNAME:CET
DTSTART:20231029T010000
END:STANDARD
END:VTIMEZONE
BEGIN:VEVENT
DTSTART;TZID=Europe/Madrid:20230606T173000
DTEND;TZID=Europe/Madrid:20230606T190000
DTSTAMP:20260423T165912
CREATED:20230216T124858Z
LAST-MODIFIED:20230524T135354Z
UID:73112-1686072600-1686078000@historico.ateneovalencia.es
SUMMARY:Grandes obras de la Pintura Universal del siglo XIX
DESCRIPTION:La pintura del siglo XIX responde a todos los quiebres históricos de la época. A principios del siglo la tendencia es el Neoclasicismo\, que propone una belleza ideal y el culto a la antigüedad clásica\, el racionalismo y el predominio de la línea. El Romanticismo\, que promueve\, en oposición al anterior\, la pasión\, lo irracional\, lo imaginario\, la exaltación\, el color y el culto a la Edad Media y las mitologías de la Europa del Norte. \nHacia mediados del siglo hay una vuelta al racionalismo\, fruto del desarrollo industrial provocado por la Revolución Industrial y sus efectos secundarios\, además de la frustración que produjeron  los fracasos revolucionarios de 1848. \nEnlace para el Online: https://youtu.be/6HDIRXZLl6k\nLos artistas se olvidan del tema político y se concentran en los temas sociales. El manifiesto realista asume que la única fuente de inspiración del arte es la realidad\, el artista debe entonces reproducir esta realidad sin embellecerla. \nLos paisajista ingleses del Romanticismo sentarán las bases sobre las que trabajarán mas tarde los Impresionistas. De Turner tomarán  el gusto por la fugacidad\, las superficies borrosas y vaporosas\, el difuminado y la mezcla de colores intensos\, dejando de lado el componente sublime característico de la pintura romántica. \nHacia finales del siglo XIX y principios del XX\, vemos aparecer una gran cantidad de movimientos artísticos denominados vanguardias\, que reflejan el individualismo de los artistas que buscaban\, cada cuál\, promover su propio movimiento. \nTítulo: "Grandes obras de la Pintura Universal del siglo XIX" \nConferenciante: Amando García \nDía: Martes 6 de junio de 2023 \nHora: 17.30 horas \nConferencia Online \nCartel:\n \n 
URL:https://historico.ateneovalencia.es/evento/grandes-obras-de-la-pintura-universal-del-siglo-xix/
LOCATION:On line
CATEGORIES:Ciclo de Conferencias
ATTACH;FMTTYPE=image/jpeg:https://historico.ateneovalencia.es/wp-content/uploads/2023/02/20230606-Amando-Grandes-Obras-s.-XIX.jpg
END:VEVENT
END:VCALENDAR