BEGIN:VCALENDAR
VERSION:2.0
PRODID:-//Ateneo Mercantil de Valencia - ECPv6.0.4//NONSGML v1.0//EN
CALSCALE:GREGORIAN
METHOD:PUBLISH
X-WR-CALNAME:Ateneo Mercantil de Valencia
X-ORIGINAL-URL:https://historico.ateneovalencia.es
X-WR-CALDESC:Eventos para Ateneo Mercantil de Valencia
REFRESH-INTERVAL;VALUE=DURATION:PT1H
X-Robots-Tag:noindex
X-PUBLISHED-TTL:PT1H
BEGIN:VTIMEZONE
TZID:Europe/Madrid
BEGIN:DAYLIGHT
TZOFFSETFROM:+0100
TZOFFSETTO:+0200
TZNAME:CEST
DTSTART:20230326T010000
END:DAYLIGHT
BEGIN:STANDARD
TZOFFSETFROM:+0200
TZOFFSETTO:+0100
TZNAME:CET
DTSTART:20231029T010000
END:STANDARD
END:VTIMEZONE
BEGIN:VEVENT
DTSTART;TZID=Europe/Madrid:20230531T190000
DTEND;TZID=Europe/Madrid:20230531T203000
DTSTAMP:20260423T164919
CREATED:20230329T093813Z
LAST-MODIFIED:20230517T090550Z
UID:73580-1685559600-1685565000@historico.ateneovalencia.es
SUMMARY:La cúpula de Brunelleschi de Florencia
DESCRIPTION:Un 7 de agosto de 1420 se inició una construcción que cambió arquitectónicamente el mundo. ¿Cómo pudo Bruneslleschi\, un mero orfebre\, sin formación académica como arquitecto\, construir una de las joyas más bellas del Renacimiento italiano y el gran símbolo de Florencia? \nEnlace para el Online: https://youtu.be/c4gZi5I0nH4\nLa cúpula de la catedral de Santa Maria del Fiore\, en Florencia\, terminó de construirse en 1436. Sus suaves curvas y su ingeniería innovadora son un monumento a Filippo Brunelleschi\, quien diseñó su obra maestra como dos cúpulas\, una dentro de la otra. Aunque no son consideradas de una excepcional maestría pictórica\, las escenas de El Juicio Final pintadas por Vasari y Zuccaro en la cúpula interior figuran entre las pinturas murales más grandes del mundo. \nEl Prof. Dr. Adolfo Alonso Durá tratará de explicarnos cómo una cúpula de decenas de miles de toneladas\,  de casi 50 metros de ancho\, que empezó a edificarla a 55 metros de altura\, sobre los muros ya existentes puede sostenerse sin elementos de sustentación... Nadie lo sabía\, excepto Brunelleschi. \nTítulo: "La cúpula de Brunelleschi de Florencia" \nConferenciante: Prof. Dr. Adolfo Alonso Durá. Doctor Arquitecto. Profesor Titular de Cálculo de Estructuras en Universitat Politècnica de València. \nDía: Miércoles 31 de mayo de 2023 \nHora: 19 horas \nLugar: Salón de Actos del Ateneo Mercantil de Valencia \nEntrada libre y gratuita hasta completar aforo \nCurriculum abreviado de Adolfo Alonso Durá\nDoctor Arquitecto. Profesor Titular de Escuela Universitaria del Área de Mecánica de Medios Continuos y Teoría de Estructuras en la Universitat Politècnica de València. Adscrito a la Escuela Técnica Superior de Arquitectura de Valencia. Investigador del Grupo CiD. \nCartel:
URL:https://historico.ateneovalencia.es/evento/la-cupula-de-brunelleschi-de-florencia/
LOCATION:Teatro Ateneo
CATEGORIES:Ciclo de Conferencias
ATTACH;FMTTYPE=image/jpeg:https://historico.ateneovalencia.es/wp-content/uploads/2023/03/20230516-Cupula-Brunelleschi.jpg
END:VEVENT
END:VCALENDAR